BEGIN:VCALENDAR
VERSION:2.0
PRODID:-//Volunteer Connect York Region - ECPv4.8.2//NONSGML v1.0//EN
CALSCALE:GREGORIAN
METHOD:PUBLISH
X-WR-CALNAME:Volunteer Connect York Region
X-ORIGINAL-URL:https://volunteermarkham.ca
X-WR-CALDESC:Events for Volunteer Connect York Region
BEGIN:VEVENT
DTSTART;TZID=America/Toronto:20230313T090000
DTEND;TZID=America/Toronto:20230317T160000
DTSTAMP:20260425T030102
CREATED:20230310T004610Z
LAST-MODIFIED:20230310T004610Z
UID:12023-1678698000-1679068800@volunteermarkham.ca
SUMMARY:March Break French Conversation Circles (Fundamentals)
DESCRIPTION:French Conversation Circles camp is for students who are interested in practising their French oral skills with their peers. Each class\, the students will have the opportunity to read out loud\, improve their reading comprehension and listening ability\, and converse in French in the form of debates or group discussions\, in a safe and supporting environment. Materials will be provided. \nMonday – Friday 9:00-4:00pm\nMarch 13-17\, 2023\nAGE: 5-12 \nResident $297.57 Non Resident $312.57 \n
URL:https://volunteermarkham.ca/event/march-break-french-conversation-circles-fundamentals/
END:VEVENT
BEGIN:VEVENT
DTSTART;TZID=America/Toronto:20230313T090000
DTEND;TZID=America/Toronto:20230317T160000
DTSTAMP:20260425T030102
CREATED:20230310T004750Z
LAST-MODIFIED:20230310T004750Z
UID:12024-1678698000-1679068800@volunteermarkham.ca
SUMMARY:March Break Math Elites + U Camp
DESCRIPTION:This camp is for young mathematicians to gather and investigate interesting math problems and tackle challenging questions together with the support of a mentor. Students will be able to enhance and apply their knowledge to practice math problems. \nGrade 3-4 age: 7-11\nMarch 13-17\, 2023 \nMonday to Friday 9:00am-4:00pm \n5 Day – Resident: $297.57 \n5 Day – Non-Resident $312.57 \n
URL:https://volunteermarkham.ca/event/march-break-math-elites-u-camp/
END:VEVENT
BEGIN:VEVENT
DTSTART;TZID=America/Toronto:20230315T100000
DTEND;TZID=America/Toronto:20230315T103000
DTSTAMP:20260425T030102
CREATED:20230310T010111Z
LAST-MODIFIED:20230310T010111Z
UID:12025-1678874400-1678876200@volunteermarkham.ca
SUMMARY:Chair Yoga
DESCRIPTION:In this class\, participants will learn gentle and dynamic exercises and stretches for balance while seated and supported in a chair or on a mat. \nThis program is facilitated through Zoom. Registrants will receive an email with the Zoom link 24 hours before the program start time. \nIf you do not receive the Zoom link before the program. \nPlease note: \nThe email will be from Markham Public Library \nIt may be in your junk/spam folder. \nIf you still cannot find the email\, please contact us prior to the program start time so we can send you the link again . Please contact – mplcommunitylibrarians@markham.library.on.ca** \n
URL:https://volunteermarkham.ca/event/chair-yoga/2023-03-15/
END:VEVENT
BEGIN:VEVENT
DTSTART;TZID=America/Toronto:20230315T140000
DTEND;TZID=America/Toronto:20230315T160000
DTSTAMP:20260425T030102
CREATED:20230310T010241Z
LAST-MODIFIED:20230310T010241Z
UID:12028-1678888800-1678896000@volunteermarkham.ca
SUMMARY:Seniors Tech Café
DESCRIPTION:Do you need assistance with technology? Do you have questions about emails\, social media\, online security or anything else technology related? Stop by the Tech Café where Seneca College students are ready to empower you with technological confidence. You can find us at the computer lab of Thornhill Community Centre Branch. Drop in or register today. \n
URL:https://volunteermarkham.ca/event/seniors-tech-cafe/
END:VEVENT
BEGIN:VEVENT
DTSTART;TZID=America/Toronto:20230315T190000
DTEND;TZID=America/Toronto:20230315T200000
DTSTAMP:20260425T030102
CREATED:20230310T010425Z
LAST-MODIFIED:20230310T010425Z
UID:12029-1678906800-1678910400@volunteermarkham.ca
SUMMARY:Traditional Indian music\, musical instruments\, and Singing
DESCRIPTION:Learn about traditional Indian music\, musical instruments\, and different singing types/styles. Gauri Guha\, a vocalist in the Indian classical khayal style\, will be leading this program. She is classically trained and has a Bachelor of Music and an M.A. degree in Bengali Literature. She has performed world wide and loves to educate others on the wide variety of music Indian has. \nLearn more about her here: http://www.vmacch.ca/beta/gaur… \nwww.gauriguha.net \nRegistrants will receive a confirmation email upon registration\, 24 hours prior to the program\, registrants will receive an email with the event link. \nIf you do not receive the Zoom link prior the program: \nPlease note: \nThe email will be from “Markham Public Library” \nIt may be in your junk/spam folder. \nIf you still cannot find the email\, please contact us prior to the program start time so we can send you the link again @ mplcommunitylibrarians@markham.library.on.ca** \n
URL:https://volunteermarkham.ca/event/traditional-indian-music-musical-instruments-and-singing/
END:VEVENT
END:VCALENDAR