BEGIN:VCALENDAR
VERSION:2.0
PRODID:-//Volunteer Connect York Region - ECPv4.8.2//NONSGML v1.0//EN
CALSCALE:GREGORIAN
METHOD:PUBLISH
X-WR-CALNAME:Volunteer Connect York Region
X-ORIGINAL-URL:https://volunteermarkham.ca
X-WR-CALDESC:Events for Volunteer Connect York Region
BEGIN:VEVENT
DTSTART;TZID=America/Toronto:20230227T140000
DTEND;TZID=America/Toronto:20230227T150000
DTSTAMP:20260426T001048
CREATED:20230130T184014Z
LAST-MODIFIED:20230130T184014Z
UID:11531-1677506400-1677510000@volunteermarkham.ca
SUMMARY:Understanding Basic Taxation Requirements & Benefits Workshop
DESCRIPTION:Are you a newcomer\, senior\, or general public who is interested in the topic? \nYou will learn:\n– Basic knowledge of Canada’s tax system\n– Your responsibilities & entitlements as a taxpayer \nDate: February 27\, 2023 (Monday)\nTime: 2:00 pm – 3:00 pm (Eastern Time)\nLanguage: Presented in Cantonese \nRegister now: https://buff.ly/3JtX6AO \n
URL:https://volunteermarkham.ca/event/understanding-basic-taxation-requirements-benefits-workshop/
LOCATION:Virtual
ATTACH;FMTTYPE=image/jpeg:https://volunteermarkham.ca/wp-content/uploads/2023/01/Screenshot-2023-01-30-133750.jpg
END:VEVENT
END:VCALENDAR