BEGIN:VCALENDAR
VERSION:2.0
PRODID:-//Volunteer Connect York Region - ECPv4.8.2//NONSGML v1.0//EN
CALSCALE:GREGORIAN
METHOD:PUBLISH
X-WR-CALNAME:Volunteer Connect York Region
X-ORIGINAL-URL:https://volunteermarkham.ca
X-WR-CALDESC:Events for Volunteer Connect York Region
BEGIN:VEVENT
DTSTART;TZID=America/Toronto:20230225T143000
DTEND;TZID=America/Toronto:20230225T173000
DTSTAMP:20260426T035939
CREATED:20230130T183134Z
LAST-MODIFIED:20230130T183134Z
UID:11525-1677335400-1677346200@volunteermarkham.ca
SUMMARY:Indigenous Action Committee Presents: A Clothing Swap & Vendor Market
DESCRIPTION:Saturday February 25th 2023\n2:30-5:30pm \nLangstaff Community Centre- Gym A\n155 Maple Rd.\nRichmond Hill \nWinter Vendor market and clothing swap – email info@indigenousactioncommittee.com for sign up and info – limited vendor spaces \n
URL:https://volunteermarkham.ca/event/indigenous-action-committee-presents-a-clothing-swap-vendor-market/
LOCATION:Langstaff Community Centre\, 155 Red Maple Rd\, Richmond Hill\, Ontario\, L4B 4P9\, Canada
ATTACH;FMTTYPE=image/jpeg:https://volunteermarkham.ca/wp-content/uploads/2023/01/Screenshot-2023-01-30-132623.jpg
END:VEVENT
BEGIN:VEVENT
DTSTART;TZID=America/Toronto:20230225T160000
DTEND;TZID=America/Toronto:20230225T190000
DTSTAMP:20260426T035939
CREATED:20230110T203859Z
LAST-MODIFIED:20230110T203859Z
UID:11370-1677340800-1677351600@volunteermarkham.ca
SUMMARY:Coldest Night of the Year - Richmond Hill
DESCRIPTION:Coldest Night of the Year is a fun\, family-friendly fundraising walk inviting Canadians to step outside the warmth and comfort of their home to shine a light of welcome\, compassion\, and inclusion in their communities.  \nAs Blue Door’s only annual fundraiser\, Coldest Night of the Year – Richmond Hill is an imperative event as it allows Blue Door programs to continue to provide life-saving supports and services to our community’s most vulnerable. Funds raised support urgent needs and Blue Door’s Mosaic Interfaith Out of the Cold program\, providing services to youth\, adults\, seniors\, and families experiencing homelessness and poverty in York Region. \n
URL:https://volunteermarkham.ca/event/coldest-night-of-the-year-richmond-hill/
LOCATION:toronto montessori school\, 8569 Bayview Ave\, Richmond Hill\, ON\, L4B 3M7\, Canada
CATEGORIES:Events,Fundraising events,Public events,Volunteering events
ORGANIZER;CN="Blue%20Door%20Support%20Services":MAILTO:info@bluedoor.ca
END:VEVENT
END:VCALENDAR