BEGIN:VCALENDAR
VERSION:2.0
PRODID:-//Volunteer Connect York Region - ECPv4.8.2//NONSGML v1.0//EN
CALSCALE:GREGORIAN
METHOD:PUBLISH
X-WR-CALNAME:Volunteer Connect York Region
X-ORIGINAL-URL:https://volunteermarkham.ca
X-WR-CALDESC:Events for Volunteer Connect York Region
BEGIN:VEVENT
DTSTART;TZID=America/Toronto:20221101T090000
DTEND;TZID=America/Toronto:20221101T170000
DTSTAMP:20260425T173421
CREATED:20221101T163050Z
LAST-MODIFIED:20221101T164211Z
UID:7302-1667293200-1667322000@volunteermarkham.ca
SUMMARY:Vaughan Public Library Travelling Exhibit: Art in the Holocaust
DESCRIPTION:Visit Bathurst Clark Resource Library in October and November to view this special exhibit showcasing great works and art rooted in the Holocaust experience. \nStarts October 1st\, 2022 9 AM\nEnds November 30th\, 2022 5 PM \nLocation:\nBathurst Clark Resource Library\n900 Clark Ave W\nThornhill\, Vaughan\nOntario \n
URL:https://volunteermarkham.ca/event/vaughan-public-library-travelling-exhibit-art-in-the-holocaust/2022-11-01/
LOCATION:Bathurst Clark Resource Library\, 900 Clark Ave W\, Vaughan\, ontario\, Canada
END:VEVENT
BEGIN:VEVENT
DTSTART;TZID=America/Toronto:20221101T100000
DTEND;TZID=America/Toronto:20221101T110000
DTSTAMP:20260425T173421
CREATED:20221018T181200Z
LAST-MODIFIED:20221018T181200Z
UID:6780-1667296800-1667300400@volunteermarkham.ca
SUMMARY:Everyday English for Newcomers- OneHub Growth
DESCRIPTION:Our program is designed for English-speaking beginners:\n-Each session focuses on a different scenerio\n-Introduction of new words each time\, what they mean and how to use them in conversation\n-Each participant will take turns to practise via role play \nDate: Every Tuesdays on November 1\, 8\, 15\, 22\, & 29th 2022\nTime:10am-11am\nCourse delivery: Online (zoom)\nLanguage Instruction: English\nFREE \nOpen for registration now\nPlease visit: onhubgrowth.com/everyday-english or call 905-946-8898 ext 3 to Register \n
URL:https://volunteermarkham.ca/event/everyday-english-for-newcomers-onehub-growth/2022-11-01/
LOCATION:ontario
ATTACH;FMTTYPE=image/jpeg:https://volunteermarkham.ca/wp-content/uploads/2022/10/Screenshot-2022-10-18-104901.jpg
END:VEVENT
END:VCALENDAR