BEGIN:VCALENDAR
VERSION:2.0
PRODID:-//Volunteer Connect York Region - ECPv4.8.2//NONSGML v1.0//EN
CALSCALE:GREGORIAN
METHOD:PUBLISH
X-WR-CALNAME:Volunteer Connect York Region
X-ORIGINAL-URL:https://volunteermarkham.ca
X-WR-CALDESC:Events for Volunteer Connect York Region
BEGIN:VEVENT
DTSTART;VALUE=DATE:20220725
DTEND;VALUE=DATE:20221025
DTSTAMP:20260425T121411
CREATED:20220727T130126Z
LAST-MODIFIED:20220727T130126Z
UID:6334-1658707200-1666655999@volunteermarkham.ca
SUMMARY:South Markham Quick Action Grants
DESCRIPTION:Interested in hosting an event or activity in South Markham? Apply for a $1\,000 Quick Action Grant and we could help you in funding your idea! Note that grants will be available until all funds have been distributed so do not wait\, and start something new for your neighbourhood today! \n
URL:https://volunteermarkham.ca/event/south-markham-quick-action-grants/
CATEGORIES:Educational events,Informational events,Public events,Volunteering events
ATTACH;FMTTYPE=image/png:https://volunteermarkham.ca/wp-content/uploads/2022/07/South-Markham-Community-Action-Table.png
ORGANIZER;CN="South%20Markham%20Community%20Action%20Table":MAILTO:remily@agincourtcommunityservices.com
END:VEVENT
BEGIN:VEVENT
DTSTART;TZID=America/Toronto:20220915T080000
DTEND;TZID=America/Toronto:20221031T170000
DTSTAMP:20260425T121411
CREATED:20220822T192757Z
LAST-MODIFIED:20220822T192757Z
UID:6396-1663228800-1667235600@volunteermarkham.ca
SUMMARY:Halloween Nights of Lights & Pumpkinville
DESCRIPTION:AN IMMERSIVE WALK-THROUGH HALLOWEEN EXPERIENCE\nHalloween Nights of Lights will now be a thrilling\, immersive walk-through experience for the 2022 season. Bigger and better\, this years experience will feature more than 1.5 million LED and RGB lights animated and synchronized to your favourite Halloween tunes. Continue the fun inside of Pumpkinville\, a fun fair located at the end of the Nights of Lights trail featuring larger than life pumpkin sculptures and village. Halloween Nights of Lights is the must-see event of the Fall season for ALL AGES. \n
URL:https://volunteermarkham.ca/event/halloween-nights-of-lights-pumpkinville/
LOCATION:25 The West Mall |  Toronto\, ON\, 25 The West Mall\, Toronto\, Ontario\, M9C 1B8\, Canada
ATTACH;FMTTYPE=image/png:https://volunteermarkham.ca/wp-content/uploads/2022/08/screen-shot-2022-08-17-at-11-30-42-am_orig.png
END:VEVENT
BEGIN:VEVENT
DTSTART;VALUE=DATE:20221004
DTEND;VALUE=DATE:20221017
DTSTAMP:20260425T121411
CREATED:20220906T132449Z
LAST-MODIFIED:20220906T132449Z
UID:6488-1664841600-1665964799@volunteermarkham.ca
SUMMARY:Art of Plenty: Art Show and Sale
DESCRIPTION:The Varley-McKay Art Foundation of Markham is pleased to present the Art of Plenty: Art Show and Sale fundraiser! Join us at the McKay Art Centre between Tuesday\, October 4 and Sunday\, October 16\, 2022 to see a variety of art produced by local artists. A portion of the sale of each artwork helps the Varley-McKay Art Foundation of Markham continue to provide support to the Varley Art Gallery of Markham\, a vital cultural hub in our community. \nSave the date for the Art of Plenty opening reception at the Varley Art Gallery on Tuesday\, October 4. Tickets to the opening reception are only $20! Ticket sales open on Sunday\, August 7. From October 5 –16\, admission to the art show is free of charge. \nWe are currently accepting artist submissions for the show. For more information about eligibility and how to apply\, please check our open call. The deadline is Saturday\, August 20. \nFacebook: facebook.com/events/2123543191141077\nInstagram: instagram.com/varleymckayartfoundation\nTwitter: twitter.com/VarleyMckay\nYouTube: youtube.com/channel/UCsJ55L5I0ffIcAQFxbq0PcQ \n
URL:https://volunteermarkham.ca/event/art-of-plenty-art-show-and-sale/
END:VEVENT
BEGIN:VEVENT
DTSTART;TZID=America/Toronto:20221012T153000
DTEND;TZID=America/Toronto:20221013T183000
DTSTAMP:20260425T121411
CREATED:20221012T170549Z
LAST-MODIFIED:20221012T170549Z
UID:6602-1665588600-1665685800@volunteermarkham.ca
SUMMARY:Markham Fire: Doors Open Events
DESCRIPTION:Join Markham Fire and Emergency Services for their DOORS OPEN EVENTS. \n-Learns about fire safety in a fun and engaging way\n-Meet your local firefighters\n-Chance to win prizes\, including an escape room experience for you and 3 others\n-Snacks and light refreshments will be served \nTuesday October 11th from 3:30-6:30pm\nStation 98\, 650 Bur Oak Ave \nWednesday October 12th from 3:30-6:30pm\nStation 92\, 7801 Bayview Ave \nThursday October 13th from 3:30-6:30pm\nStation 96\, 5567 14th Ave \nSaturday October 15th from 10:00am-2:00pm\nStation 99\, 3255 Bur Oak Ave \n
URL:https://volunteermarkham.ca/event/markham-fire-doors-open-events/2022-10-12/
LOCATION:markham fire\, markham
ATTACH;FMTTYPE=image/jpeg:https://volunteermarkham.ca/wp-content/uploads/2022/10/markham-fire-oct-events.jpg
ORGANIZER;CN="Markham%20Fire":MAILTO:customerservice@markham.ca
END:VEVENT
BEGIN:VEVENT
DTSTART;TZID=America/Toronto:20221013T180000
DTEND;TZID=America/Toronto:20221013T230000
DTSTAMP:20260425T121411
CREATED:20220823T201952Z
LAST-MODIFIED:20220823T201952Z
UID:6409-1665684000-1665702000@volunteermarkham.ca
SUMMARY:Evergreen Hospice "An Evening to Treasure" Gala
DESCRIPTION:Evergreen Hospice\, serving Markham\, Stouffville and Thornhill\, is hosting a fundraising gala on Thursday\, October 13th at 6 pm. The theme of this gala is a treasure hunt. Your journey starts with the purchase of a ticket. You will be given hints and clues to collect all the items needed to be entered for our grand prize. This event also features entertainment\, a gourmet meal and drinks\, live and silent auctions. You will be helping Evergreen support people in your community coping with a life-threatening illness\, caregiving or grief. \n
URL:https://volunteermarkham.ca/event/evergreen-hospice-an-evening-to-treasure-gala/
LOCATION:Angus Glen Golf Club\, 10080 Kennedy Road\, Markham\, Ontario\, Canada
CATEGORIES:Fundraising events
ATTACH;FMTTYPE=image/jpeg:https://volunteermarkham.ca/wp-content/uploads/2022/08/Gala-Ad-2022-.jpg
ORGANIZER;CN="Evergreen%20Hospice":MAILTO:lpitcher@evgcares.org
END:VEVENT
END:VCALENDAR