BEGIN:VCALENDAR
VERSION:2.0
PRODID:-//Volunteer Connect York Region - ECPv4.8.2//NONSGML v1.0//EN
CALSCALE:GREGORIAN
METHOD:PUBLISH
X-WR-CALNAME:Volunteer Connect York Region
X-ORIGINAL-URL:https://volunteermarkham.ca
X-WR-CALDESC:Events for Volunteer Connect York Region
BEGIN:VEVENT
DTSTART;VALUE=DATE:20220725
DTEND;VALUE=DATE:20221025
DTSTAMP:20260425T121513
CREATED:20220727T130126Z
LAST-MODIFIED:20220727T130126Z
UID:6334-1658707200-1666655999@volunteermarkham.ca
SUMMARY:South Markham Quick Action Grants
DESCRIPTION:Interested in hosting an event or activity in South Markham? Apply for a $1\,000 Quick Action Grant and we could help you in funding your idea! Note that grants will be available until all funds have been distributed so do not wait\, and start something new for your neighbourhood today! \n
URL:https://volunteermarkham.ca/event/south-markham-quick-action-grants/
CATEGORIES:Educational events,Informational events,Public events,Volunteering events
ATTACH;FMTTYPE=image/png:https://volunteermarkham.ca/wp-content/uploads/2022/07/South-Markham-Community-Action-Table.png
ORGANIZER;CN="South%20Markham%20Community%20Action%20Table":MAILTO:remily@agincourtcommunityservices.com
END:VEVENT
BEGIN:VEVENT
DTSTART;TZID=America/Toronto:20220915T080000
DTEND;TZID=America/Toronto:20221031T170000
DTSTAMP:20260425T121513
CREATED:20220822T192757Z
LAST-MODIFIED:20220822T192757Z
UID:6396-1663228800-1667235600@volunteermarkham.ca
SUMMARY:Halloween Nights of Lights & Pumpkinville
DESCRIPTION:AN IMMERSIVE WALK-THROUGH HALLOWEEN EXPERIENCE\nHalloween Nights of Lights will now be a thrilling\, immersive walk-through experience for the 2022 season. Bigger and better\, this years experience will feature more than 1.5 million LED and RGB lights animated and synchronized to your favourite Halloween tunes. Continue the fun inside of Pumpkinville\, a fun fair located at the end of the Nights of Lights trail featuring larger than life pumpkin sculptures and village. Halloween Nights of Lights is the must-see event of the Fall season for ALL AGES. \n
URL:https://volunteermarkham.ca/event/halloween-nights-of-lights-pumpkinville/
LOCATION:25 The West Mall |  Toronto\, ON\, 25 The West Mall\, Toronto\, Ontario\, M9C 1B8\, Canada
ATTACH;FMTTYPE=image/png:https://volunteermarkham.ca/wp-content/uploads/2022/08/screen-shot-2022-08-17-at-11-30-42-am_orig.png
END:VEVENT
BEGIN:VEVENT
DTSTART;VALUE=DATE:20220929
DTEND;VALUE=DATE:20221003
DTSTAMP:20260425T121513
CREATED:20220901T225611Z
LAST-MODIFIED:20220906T132635Z
UID:6486-1664409600-1664755199@volunteermarkham.ca
SUMMARY:Markham Fair
DESCRIPTION:The Markham Fair is back this Fall! See our website for more details. \nhttps://www.markhamfair.ca/fair/ \n
URL:https://volunteermarkham.ca/event/markham-fair-3/
END:VEVENT
BEGIN:VEVENT
DTSTART;TZID=America/Toronto:20220929T190000
DTEND;TZID=America/Toronto:20220930T070000
DTSTAMP:20260425T121513
CREATED:20220907T172102Z
LAST-MODIFIED:20220907T172102Z
UID:6525-1664478000-1664521200@volunteermarkham.ca
SUMMARY:Take Back The Night York Region 2022
DESCRIPTION:Virtual Event on September 29 2022 \nTime: 7pm \nSpeakers\, Performers\, Candle Light Vigil and More! \nTake a stand against Gender Based Violence\, Take Back The Night! \nTake Back the Night is a global movement to eradicate gender-based and sexual violence. Join us on September 29th at 7pm for the livestream of the 24th annual Take Back The Night York Region event. Hear from survivors\, watch performers\, view the march and rally\, be part of a candlelight vigil and more! Register at eventbright. Together we can Take Back The Night! \n
URL:https://volunteermarkham.ca/event/take-back-the-night-york-region-2022/
ATTACH;FMTTYPE=image/jpeg:https://volunteermarkham.ca/wp-content/uploads/2022/09/Take-Back-The-Night-2021.jpg
ORGANIZER;CN="Women%20Support%20Network%20of%20York%20Region":MAILTO:info@womenssupportnetwork.ca
END:VEVENT
BEGIN:VEVENT
DTSTART;TZID=America/Toronto:20220930T090000
DTEND;TZID=America/Toronto:20220930T150000
DTSTAMP:20260425T121513
CREATED:20220929T120358Z
LAST-MODIFIED:20220929T120358Z
UID:6580-1664528400-1664550000@volunteermarkham.ca
SUMMARY:VM Truth and Reconciliation Workshops for Volunteer Administrators
DESCRIPTION:On Friday September 30\, Please join us in our Truth and Reconciliation Event where we will be learning about the 7 Grandfather teachings. From 9am- 3pm at the start of every hour\, we will be holding 15 minute workshop to watch and discuss these valuable teachings that have impact on all community workers. \nMeeting Link: https://meet.google.com/pez-gwku-mxh \n
URL:https://volunteermarkham.ca/event/vm-truth-and-reconciliation-workshops-for-volunteer-administrators/
ATTACH;FMTTYPE=image/png:https://volunteermarkham.ca/wp-content/uploads/2022/09/Orange-Playful-Paper-Texture-Typographic-Inspiration-Quote-Instagram-Post.png
ORGANIZER;CN="Volunteer%20Markham":MAILTO:info@volunteermarkham.ca
END:VEVENT
END:VCALENDAR