BEGIN:VCALENDAR
VERSION:2.0
PRODID:-//Volunteer Connect York Region - ECPv4.8.2//NONSGML v1.0//EN
CALSCALE:GREGORIAN
METHOD:PUBLISH
X-WR-CALNAME:Volunteer Connect York Region
X-ORIGINAL-URL:https://volunteermarkham.ca
X-WR-CALDESC:Events for Volunteer Connect York Region
BEGIN:VEVENT
DTSTART;VALUE=DATE:20220725
DTEND;VALUE=DATE:20221025
DTSTAMP:20260425T140732
CREATED:20220727T130126Z
LAST-MODIFIED:20220727T130126Z
UID:6334-1658707200-1666655999@volunteermarkham.ca
SUMMARY:South Markham Quick Action Grants
DESCRIPTION:Interested in hosting an event or activity in South Markham? Apply for a $1\,000 Quick Action Grant and we could help you in funding your idea! Note that grants will be available until all funds have been distributed so do not wait\, and start something new for your neighbourhood today! \n
URL:https://volunteermarkham.ca/event/south-markham-quick-action-grants/
CATEGORIES:Educational events,Informational events,Public events,Volunteering events
ATTACH;FMTTYPE=image/png:https://volunteermarkham.ca/wp-content/uploads/2022/07/South-Markham-Community-Action-Table.png
ORGANIZER;CN="South%20Markham%20Community%20Action%20Table":MAILTO:remily@agincourtcommunityservices.com
END:VEVENT
BEGIN:VEVENT
DTSTART;TZID=America/Toronto:20220915T080000
DTEND;TZID=America/Toronto:20221031T170000
DTSTAMP:20260425T140732
CREATED:20220822T192757Z
LAST-MODIFIED:20220822T192757Z
UID:6396-1663228800-1667235600@volunteermarkham.ca
SUMMARY:Halloween Nights of Lights & Pumpkinville
DESCRIPTION:AN IMMERSIVE WALK-THROUGH HALLOWEEN EXPERIENCE\nHalloween Nights of Lights will now be a thrilling\, immersive walk-through experience for the 2022 season. Bigger and better\, this years experience will feature more than 1.5 million LED and RGB lights animated and synchronized to your favourite Halloween tunes. Continue the fun inside of Pumpkinville\, a fun fair located at the end of the Nights of Lights trail featuring larger than life pumpkin sculptures and village. Halloween Nights of Lights is the must-see event of the Fall season for ALL AGES. \n
URL:https://volunteermarkham.ca/event/halloween-nights-of-lights-pumpkinville/
LOCATION:25 The West Mall |  Toronto\, ON\, 25 The West Mall\, Toronto\, Ontario\, M9C 1B8\, Canada
ATTACH;FMTTYPE=image/png:https://volunteermarkham.ca/wp-content/uploads/2022/08/screen-shot-2022-08-17-at-11-30-42-am_orig.png
END:VEVENT
BEGIN:VEVENT
DTSTART;TZID=America/Toronto:20220918T090000
DTEND;TZID=America/Toronto:20220918T120000
DTSTAMP:20260425T140732
CREATED:20220906T133051Z
LAST-MODIFIED:20220906T133051Z
UID:6482-1663491600-1663502400@volunteermarkham.ca
SUMMARY:Terry Fox Run
DESCRIPTION:Each year\, the communities of Markham\, Unionville\, and surrounding areas come together to carry on the Marathon of Hope and the legacy of Canada’s most iconic hero\, Terry Fox. This year’s run is Sunday\, September 18th and we are very excited! Check back regularly for updates and always feel free to email us at terryfoxmarkhamunionville@gmail.com or visit to https://run.terryfox.ca/3619 to register. \nRegistration: 9:00 am\nStart: 9:30 am – 12:00 pm\nOpening Ceremony & Warm-Up: 9:40 am\nLocation: Park Behind Unionville Library (Main Street & Library Lane) \n
URL:https://volunteermarkham.ca/event/terry-fox-run/
ATTACH;FMTTYPE=image/jpeg:https://volunteermarkham.ca/wp-content/uploads/2022/09/Terry-Fox-Run.jpg
END:VEVENT
BEGIN:VEVENT
DTSTART;TZID=America/Toronto:20220918T100000
DTEND;TZID=America/Toronto:20220918T160000
DTSTAMP:20260425T140732
CREATED:20220823T222701Z
LAST-MODIFIED:20220823T222701Z
UID:6414-1663495200-1663516800@volunteermarkham.ca
SUMMARY:Pick Your Own Apples On The Farm
DESCRIPTION:Throughout the fall\, join us at Willowgrove on Saturdays and Sunday from 10am-4pm!\nPick-Your-Own-Apples ($15/10lb per bag) \nApple Varieties for Pick Your Own: Macintosh\, Cortland\, Empire\, and more \nHoney Crisp Apples Available Pre-picked ($25/10lb per bag) \nDon’t Forget to Grab a Pumpkin as Well ($5 each) \nSept 18\, 24\, 25\nOct 8\,9\,10\,15\, 16\, 22\, 23\, 29\, 30. \n
URL:https://volunteermarkham.ca/event/pick-your-own-apples-on-the-farm/2022-09-18/
LOCATION:11737 McCowan Rd\, Whitchurch-Stouffville\, ON L4A 4C3\, 11737 McCowan Rd\, Whitchurch-Stouffville\, Ontario\, L4A 4C3\, Canada
CATEGORIES:Events
ATTACH;FMTTYPE=image/png:https://volunteermarkham.ca/wp-content/uploads/2022/08/Apple-Picking.png
END:VEVENT
END:VCALENDAR