BEGIN:VCALENDAR
VERSION:2.0
PRODID:-//Volunteer Connect York Region - ECPv4.8.2//NONSGML v1.0//EN
CALSCALE:GREGORIAN
METHOD:PUBLISH
X-WR-CALNAME:Volunteer Connect York Region
X-ORIGINAL-URL:https://volunteermarkham.ca
X-WR-CALDESC:Events for Volunteer Connect York Region
BEGIN:VEVENT
DTSTART;TZID=America/Toronto:20211120T180000
DTEND;TZID=America/Toronto:20220130T220000
DTSTAMP:20260426T043202
CREATED:20211110T164212Z
LAST-MODIFIED:20211110T164212Z
UID:5439-1637431200-1643580000@volunteermarkham.ca
SUMMARY:Fairway of Lights at Angus Glen Golf Club (select nights)
DESCRIPTION:\nAngus Glen Golf Club is excited to officially announce a new annual walking light show experience\, Fairway of Lights at Angus Glen Golf Club\, coming this winter. \nAfter nightfall\, guests are invited to follow the path through the woods and experience the excitement\, mystery and celebration of the winter season in lights.\nThe illuminated 1 km walking path takes guests on a magical adventure on our North Course\, beginning on Coyote trail and circling back down the 18th pathway to the clubhouse. Spectacular decorations and interactive displays are expected to dazzle and enchant you and showcase the wonder of the festive season. \nSpecial Festival Nights will bring additional live entertainment that will wow audiences\, such as: Santa\, live ice carving\, fire entertainers\, Princess\ncharacters and more! \nVisit the Fairway of Lights at Angus Glen with your family or a company night out this holiday season and enjoy a magical night under the stars. \nWhile enjoying the illuminated 1 km walking path\, which will take guests on a magical adventure on our North Course\, Angus Glen will be hosting 3 special Holiday Events which will offer food trucks\, fire performers\, LED princesses\, live ice carving\, a caricaturist\, old fashioned carolers and a visit from Santa! \n\n\n\n\n\nSelect Nights\, November 20 to January 30\, 2022 | 6:00 PM to 10:00 PM \nTickets: \nLightshow: \nAdults Ages 13 – 64: $25\nChildren Ages 4-12 (3 & under free)/Seniors Ages 65+: $22.50\nFamily Packages 6pm Includes 2 adults and up to 3 children: $90 \nEarly bird pricing of $5 off/ticket purchased by November 15\, 2021. Does not apply to Festival Nights. \nFestival Nights: \nAdults Ages 13 – 64: $35\nChildren Ages 4-12/Ages 65+(3 & under free): $31.50\nFamily Packages 6pm Includes 2 adults and up to 3 children: $130 \nHow to get tickets? \n\n Buy Online \n\nDate & Time:\n\nSelect Nights\, November 20 to January 30\, 2022 | 6:00 PM to 10:00 PM \nSaturday\, November 27\, 2021 \nThursday\, December 9\, 2021 \nWednesday\, December 22\, 2021 \nVenue: \nAngus Glen Golf Club\n10080 Kennedy Rd\, Gormley\, ON L0H 1G0\n\n\n\n\n\nWhere: \nAngus Glen Golf Club\, 10080 Kennedy Rd\, Gormley\n\n\n\n\n\n\n
URL:https://volunteermarkham.ca/event/fairway-of-lights-at-angus-glen-golf-club-select-nights/
LOCATION:Angus Glen Golf Club\, 10080 Kennedy Road\, Markham\, Ontario\, Canada
END:VEVENT
BEGIN:VEVENT
DTSTART;TZID=America/Toronto:20211215T100000
DTEND;TZID=America/Toronto:20220117T120000
DTSTAMP:20260426T043202
CREATED:20211213T173043Z
LAST-MODIFIED:20211213T173043Z
UID:5717-1639562400-1642420800@volunteermarkham.ca
SUMMARY:Quick Action Grants Info Session by South Markham Connects
DESCRIPTION:In November 2019\, York Region Council approved a place-based approach to developing York Region’s Community Safety & Well-Being (CSWB) Plan and authorized a process to identify geographic areas of focus. United Way Greater Toronto (UWGT) has partnered with York Region and South Markham Connects to support a place-based Community Action Table (CAT) in South-Central Markham to help deliver on the CSWB plan. \nAs part of this work\, UWGT has provided South Markham Connects with a total of $15\,000 for residents and agencies\, $1\,000 for each Resident Initiative and a $10\,000 grant for an Agency Initiative in round one to support local neighbourhoods to start new actions in parallel with the work and priorities of the Community Action Table. \nJoin us in one of our 3 Info Sessions to learn more about this grant and how to apply!  Please submit your information on this form: https://forms.gle/vioRhKnC4ju6wB4K9 and a link will be provided. \n– December 15th\, 2021 |10AM – 12PM (Online – Zoom)\n– December 20th\, 2021 | 4PM – 6PM (Online – Zoom)\n– January 17th\, 2022 | 10AM – 12PM (Online & In-person) \n
URL:https://volunteermarkham.ca/event/quick-action-grants-info-session-by-south-markham-connects/2021-12-15/
LOCATION:Zoom Online\, Ontario
CATEGORIES:Events,Informational events,Public events
ATTACH;FMTTYPE=image/png:https://volunteermarkham.ca/wp-content/uploads/2021/12/QAG-Info-Sessions-Flyers.png
ORGANIZER;CN="South%20Markham%20Connects":MAILTO:southmarkhamconnects@gmail.com
END:VEVENT
BEGIN:VEVENT
DTSTART;TZID=America/Toronto:20220113T120000
DTEND;TZID=America/Toronto:20220113T170000
DTSTAMP:20260426T043202
CREATED:20220110T172107Z
LAST-MODIFIED:20220110T172107Z
UID:5855-1642075200-1642093200@volunteermarkham.ca
SUMMARY:The Schomburg Center 's 10th Annual Black Comic Book Festival
DESCRIPTION:Location: Online \nThe Black Comic Book Festival celebrates the rich tradition of Black comics featuring panel discussions\, a cosplay show\, and more!\nThe 2022 Black Comic Book Festival marks a decade of bringing together animators\, Blerds\, bloggers\, cosplay lovers\, fans\, families\, illustrators\, independent publishers\, and writers to celebrate Black comic books and graphic novels and provides a platform to get the works directly to readers. This annual event features panel discussions\, workshops\, cosplay showcases\, and highlights the work of creators from across the country. \nLearn more:  https://www.eventbrite.ca/e/the-schomburg-center-s-10th-annual-black-comic-book-festival-registration-208803515937?keep_tld=1 \n
URL:https://volunteermarkham.ca/event/the-schomburg-center-s-10th-annual-black-comic-book-festival/
LOCATION:online\, Ontario
END:VEVENT
BEGIN:VEVENT
DTSTART;TZID=America/Toronto:20220113T153000
DTEND;TZID=America/Toronto:20220113T160000
DTSTAMP:20260426T043202
CREATED:20220112T165926Z
LAST-MODIFIED:20220112T165926Z
UID:5904-1642087800-1642089600@volunteermarkham.ca
SUMMARY:Chair Yoga with Jackie Thorntin - Online
DESCRIPTION:Feel the benefits of gentle core body stretches\, movements and postures that will engage both sides of the body. Led by Jackie Thornton. For Zoom details\, email bpreyde@aurorapl.ca\nAudience: Adults \n
URL:https://volunteermarkham.ca/event/chair-yoga-with-jackie-thorntin-online/
LOCATION:ONLINE\, Ontario
END:VEVENT
END:VCALENDAR