BEGIN:VCALENDAR
VERSION:2.0
PRODID:-//Volunteer Connect York Region - ECPv4.8.2//NONSGML v1.0//EN
CALSCALE:GREGORIAN
METHOD:PUBLISH
X-WR-CALNAME:Volunteer Connect York Region
X-ORIGINAL-URL:https://volunteermarkham.ca
X-WR-CALDESC:Events for Volunteer Connect York Region
BEGIN:VEVENT
DTSTART;TZID=America/Toronto:20211120T180000
DTEND;TZID=America/Toronto:20220130T220000
DTSTAMP:20260426T043202
CREATED:20211110T164212Z
LAST-MODIFIED:20211110T164212Z
UID:5439-1637431200-1643580000@volunteermarkham.ca
SUMMARY:Fairway of Lights at Angus Glen Golf Club (select nights)
DESCRIPTION:\nAngus Glen Golf Club is excited to officially announce a new annual walking light show experience\, Fairway of Lights at Angus Glen Golf Club\, coming this winter. \nAfter nightfall\, guests are invited to follow the path through the woods and experience the excitement\, mystery and celebration of the winter season in lights.\nThe illuminated 1 km walking path takes guests on a magical adventure on our North Course\, beginning on Coyote trail and circling back down the 18th pathway to the clubhouse. Spectacular decorations and interactive displays are expected to dazzle and enchant you and showcase the wonder of the festive season. \nSpecial Festival Nights will bring additional live entertainment that will wow audiences\, such as: Santa\, live ice carving\, fire entertainers\, Princess\ncharacters and more! \nVisit the Fairway of Lights at Angus Glen with your family or a company night out this holiday season and enjoy a magical night under the stars. \nWhile enjoying the illuminated 1 km walking path\, which will take guests on a magical adventure on our North Course\, Angus Glen will be hosting 3 special Holiday Events which will offer food trucks\, fire performers\, LED princesses\, live ice carving\, a caricaturist\, old fashioned carolers and a visit from Santa! \n\n\n\n\n\nSelect Nights\, November 20 to January 30\, 2022 | 6:00 PM to 10:00 PM \nTickets: \nLightshow: \nAdults Ages 13 – 64: $25\nChildren Ages 4-12 (3 & under free)/Seniors Ages 65+: $22.50\nFamily Packages 6pm Includes 2 adults and up to 3 children: $90 \nEarly bird pricing of $5 off/ticket purchased by November 15\, 2021. Does not apply to Festival Nights. \nFestival Nights: \nAdults Ages 13 – 64: $35\nChildren Ages 4-12/Ages 65+(3 & under free): $31.50\nFamily Packages 6pm Includes 2 adults and up to 3 children: $130 \nHow to get tickets? \n\n Buy Online \n\nDate & Time:\n\nSelect Nights\, November 20 to January 30\, 2022 | 6:00 PM to 10:00 PM \nSaturday\, November 27\, 2021 \nThursday\, December 9\, 2021 \nWednesday\, December 22\, 2021 \nVenue: \nAngus Glen Golf Club\n10080 Kennedy Rd\, Gormley\, ON L0H 1G0\n\n\n\n\n\nWhere: \nAngus Glen Golf Club\, 10080 Kennedy Rd\, Gormley\n\n\n\n\n\n\n
URL:https://volunteermarkham.ca/event/fairway-of-lights-at-angus-glen-golf-club-select-nights/
LOCATION:Angus Glen Golf Club\, 10080 Kennedy Road\, Markham\, Ontario\, Canada
END:VEVENT
BEGIN:VEVENT
DTSTART;TZID=America/Toronto:20211125T173000
DTEND;TZID=America/Toronto:20220109T223000
DTSTAMP:20260426T043202
CREATED:20211110T162023Z
LAST-MODIFIED:20211110T162023Z
UID:5411-1637861400-1641767400@volunteermarkham.ca
SUMMARY:Journey into Enchantment Drive-thru in Markham
DESCRIPTION:This Christmas\, join us for the most magical event in the Greater Toronto Area\, “Journey into Enchantment” in Markham. \nJourney into Enchantment is back with a bigger\, brighter and over-the-top Christmas festival! Visit us this Holiday season for a family fun filled drive-thru festival! Experience the magic of over 1.5 million of unique light decorations\, 3D interactive displays\, and musical lights while safely driving through a 2 km route right in the comfort of your own vehicle! \nTune into our dedicated radio station for the famous Christmas Hits!\nMost importantly\, you can do all of this while also supporting Toronto SickKids\, Toronto Animal services and Ontario Parents Advocating for Children with Cancer – OPACC. \nTickets: \nMonday – Thursday: $29.95\nFriday – Sunday: $39.95 \nPrices are per vehicle\, not per person\, and up to eight passengers on a regular rate and early bird. \nUse Early Bird Promo Code ‘offer‘ For 20% Off Till November 15\, 2021! \nHow to get tickets? \n Buy Online \n\nWHEN & WHERE\n\nDate & Time: \n\nNovember 25\, 2021 to January 9\, 2022 \nSundays to Thursdays from 5.30pm to 10.30pm. \n\nFridays and Saturdays from 5.30pm to 11.30p.m \n  \n\n\nVenue: \nMount Joy GO station\, 1801 Bur Oak Ave\, Markham \n\n\n
URL:https://volunteermarkham.ca/event/journey-into-enchantment-drive-thru-in-markham/
LOCATION:Mount Joy GO Station\, 1801 Bur Oak Ave\, Markham\, Ontario\, Canada
END:VEVENT
BEGIN:VEVENT
DTSTART;TZID=America/Toronto:20211215T100000
DTEND;TZID=America/Toronto:20220117T120000
DTSTAMP:20260426T043202
CREATED:20211213T173043Z
LAST-MODIFIED:20211213T173043Z
UID:5717-1639562400-1642420800@volunteermarkham.ca
SUMMARY:Quick Action Grants Info Session by South Markham Connects
DESCRIPTION:In November 2019\, York Region Council approved a place-based approach to developing York Region’s Community Safety & Well-Being (CSWB) Plan and authorized a process to identify geographic areas of focus. United Way Greater Toronto (UWGT) has partnered with York Region and South Markham Connects to support a place-based Community Action Table (CAT) in South-Central Markham to help deliver on the CSWB plan. \nAs part of this work\, UWGT has provided South Markham Connects with a total of $15\,000 for residents and agencies\, $1\,000 for each Resident Initiative and a $10\,000 grant for an Agency Initiative in round one to support local neighbourhoods to start new actions in parallel with the work and priorities of the Community Action Table. \nJoin us in one of our 3 Info Sessions to learn more about this grant and how to apply!  Please submit your information on this form: https://forms.gle/vioRhKnC4ju6wB4K9 and a link will be provided. \n– December 15th\, 2021 |10AM – 12PM (Online – Zoom)\n– December 20th\, 2021 | 4PM – 6PM (Online – Zoom)\n– January 17th\, 2022 | 10AM – 12PM (Online & In-person) \n
URL:https://volunteermarkham.ca/event/quick-action-grants-info-session-by-south-markham-connects/2021-12-15/
LOCATION:Zoom Online\, Ontario
CATEGORIES:Events,Informational events,Public events
ATTACH;FMTTYPE=image/png:https://volunteermarkham.ca/wp-content/uploads/2021/12/QAG-Info-Sessions-Flyers.png
ORGANIZER;CN="South%20Markham%20Connects":MAILTO:southmarkhamconnects@gmail.com
END:VEVENT
BEGIN:VEVENT
DTSTART;TZID=America/Toronto:20211217T200000
DTEND;TZID=America/Toronto:20220107T210000
DTSTAMP:20260426T043202
CREATED:20211110T165303Z
LAST-MODIFIED:20211110T165303Z
UID:5456-1639771200-1641589200@volunteermarkham.ca
SUMMARY:IllumiNATION\, a virtual celebration of lights across Canada
DESCRIPTION:\nLet yourself be dazzled by IllumiNATION! This virtual show takes you on a magical cross-Canada journey that will amaze audiences of all ages. \nJoin us wherever you are as we discover talented Canadians sharing their light upon this special holiday season. \nIn the company of Gregory Charles\, admire numerous artistic performances as we travel t0 Ottawa\, Montréal\, Toronto\, Halifax\, Moncton\, Calgary\, Vancouver\, Yellowknife and Old Crow\, Yukon. Let’s discover the most beautiful lights in Canada! \nFeaturing\nAnnie Villeneuve\nDr. Andrea McCrady\, House of Commons\, Ottawa\nChef Dominique Dufour\, Restaurant: Gray Jay\nGregory Charles (in French only)\nJill Barber\nJoJo Mason\nChef Katie Ardington\, Restaurant: Beckta\nKelly Prescott\nKirsten Moore-Towers and Michael Marinaro\nLisa LeBlanc\nMartha Wainwright\nPriyanka\nRufus Wainwright\nTheland Kicknosway \nWho is it for? \n\nAll ages – Family \nFREE \n\nWHEN & WHERE\n\nDate & Time: \nThursday\, December 17\, 2020 to Thursday\, January 7\, 2021. \nThe virtual show will premiere on Thursday\, December 17\, at 8 pm (ET) \nVenue & Address : \nOnline via the website\, YouTube and Facebook \n
URL:https://volunteermarkham.ca/event/illumination-a-virtual-celebration-of-lights-across-canada/
LOCATION:Ontario
END:VEVENT
BEGIN:VEVENT
DTSTART;TZID=America/Toronto:20220105T160000
DTEND;TZID=America/Toronto:20220105T170000
DTSTAMP:20260426T043202
CREATED:20211216T175027Z
LAST-MODIFIED:20211216T175027Z
UID:5754-1641398400-1641402000@volunteermarkham.ca
SUMMARY:Let's Care for Our Mind (Youth led workshop)
DESCRIPTION:Youth led workshop that focuses on de-stigmatizing mental health illnesses and discussing remedies and techniques for self-care. Pre-registration is required; newcomer participants must provide Permanent Resident number upon registration. There will be raffle prizes and interactive activities\, so please come support our youth!! \n
URL:https://volunteermarkham.ca/event/lets-care-for-our-mind-youth-led-workshop/
LOCATION:Zoom Online\, Ontario
CATEGORIES:Educational events,Informational events,Public events
ATTACH;FMTTYPE=image/png:https://volunteermarkham.ca/wp-content/uploads/2021/12/Lets-Care-for-Our-Mind-poster-1.png
ORGANIZER;CN="The%20Cross-Cultural%20Community%20Services%20Association%20%28TCCSA%29":MAILTO:yrr@tccsa.org
END:VEVENT
END:VCALENDAR