BEGIN:VCALENDAR
VERSION:2.0
PRODID:-//Volunteer Connect York Region - ECPv4.8.2//NONSGML v1.0//EN
CALSCALE:GREGORIAN
METHOD:PUBLISH
X-WR-CALNAME:Volunteer Connect York Region
X-ORIGINAL-URL:https://volunteermarkham.ca
X-WR-CALDESC:Events for Volunteer Connect York Region
BEGIN:VEVENT
DTSTART;TZID=America/Toronto:20230415T090000
DTEND;TZID=America/Toronto:20230415T170000
DTSTAMP:20260425T011124
CREATED:20230329T171332Z
LAST-MODIFIED:20230329T171332Z
UID:12207-1681549200-1681578000@volunteermarkham.ca
SUMMARY:Youth Leaders in Training
DESCRIPTION:Are you looking to work as a Camp Counsellor?\nDo you want to gain leadership skills and build your resume?  \nCome and get trained to be ready to apply for a camp position at the City of Markham!  \nOpen to youth ages 16-24 at no cost!  \nfor more information email: evalyn.mak@welcomecentre.ca\nor call: 416-899-9839 \nRegister at: https://docs.google.com/forms/d/e/1FAIpQLSekH61hhmTOqeCctHDNnI0asUTmSrw2s15QQLYBBey_BVG3YQ/viewform \n
URL:https://volunteermarkham.ca/event/youth-leaders-in-training/2023-04-15/
LOCATION:markham south welcome centre\, 7220 Kennedy Road\, Markham\, ontario\, L3R 7P2\, Canada
ATTACH;FMTTYPE=image/jpeg:https://volunteermarkham.ca/wp-content/uploads/2023/03/Screenshot-2023-03-29-130708.jpg
END:VEVENT
END:VCALENDAR