BEGIN:VCALENDAR
VERSION:2.0
PRODID:-//Volunteer Connect York Region - ECPv4.8.2//NONSGML v1.0//EN
CALSCALE:GREGORIAN
METHOD:PUBLISH
X-WR-CALNAME:Volunteer Connect York Region
X-ORIGINAL-URL:https://volunteermarkham.ca
X-WR-CALDESC:Events for Volunteer Connect York Region
BEGIN:VEVENT
DTSTART;TZID=America/Toronto:20220201T090000
DTEND;TZID=America/Toronto:20220201T100000
DTSTAMP:20260421T035032
CREATED:20211129T141447Z
LAST-MODIFIED:20211129T141447Z
UID:5602-1643706000-1643709600@volunteermarkham.ca
SUMMARY:York Region Food Network:  Community Breakfast
DESCRIPTION:Community Breakfast\n\nFebruary 1\, 2022 @ 9:00 am – 10:00 am\n\n\n\n\nWe’re serving it hot and fresh from 9:00-10:00 a.m. \nTakeaway only. \n\n\n\n
URL:https://volunteermarkham.ca/event/york-region-food-network-community-breakfast-3/
LOCATION:York Region Food Network\, 350 Industrial Parkway South\, Aurora\, Ontario\, L4G 3V7 
ORGANIZER;CN="York%20Region%20Food%20Network":MAILTO:4moreinfo@yrfn.ca
END:VEVENT
END:VCALENDAR