BEGIN:VCALENDAR
VERSION:2.0
PRODID:-//Volunteer Connect York Region - ECPv4.8.2//NONSGML v1.0//EN
CALSCALE:GREGORIAN
METHOD:PUBLISH
X-WR-CALNAME:Volunteer Connect York Region
X-ORIGINAL-URL:https://volunteermarkham.ca
X-WR-CALDESC:Events for Volunteer Connect York Region
BEGIN:VEVENT
DTSTART;TZID=America/Toronto:20221104T190000
DTEND;TZID=America/Toronto:20221210T210000
DTSTAMP:20260425T104040
CREATED:20221101T163022Z
LAST-MODIFIED:20221101T163022Z
UID:7314-1667588400-1670706000@volunteermarkham.ca
SUMMARY:Work From Home Exhibition- Latcham Art Centre
DESCRIPTION:Friday November 4 – Saturday December 10\, 2022\nReception: Friday\, November 4\, 7:00 – 9:00 PM. Remarks begin at 7:30. Some artists in attendance. Light refreshments. All welcome\, admission free. \n“work from home” is a group exhibition by past and present art instructors\, volunteers\, Board members\, and staff of Latcham Art Centre. Pairing interviews from each contributing artist with a diverse collection of artworks made throughout the pandemic\, this exhibition reflects on stories of place and the desire to remain creative during the lockdown. Latcham Art Centre gratefully acknowledges the Town of Whitchurch-Stouffville and the Ontario Arts Council for their generous support of this exhibition. \nArtwork credit: Margaret Grandison \n
URL:https://volunteermarkham.ca/event/work-from-home-exhibition-latcham-art-centre/
LOCATION:Latcham Art Centre\, 2 Park Drive\, Stouffville\, Ontario\, L4A 4K1\, Canada
ATTACH;FMTTYPE=image/jpeg:https://volunteermarkham.ca/wp-content/uploads/2022/11/Work-from-Home-promo._Margaret-Grandisonjpg.jpg
END:VEVENT
END:VCALENDAR