BEGIN:VCALENDAR
VERSION:2.0
PRODID:-//Volunteer Connect York Region - ECPv4.8.2//NONSGML v1.0//EN
CALSCALE:GREGORIAN
METHOD:PUBLISH
X-WR-CALNAME:Volunteer Connect York Region
X-ORIGINAL-URL:https://volunteermarkham.ca
X-WR-CALDESC:Events for Volunteer Connect York Region
BEGIN:VEVENT
DTSTART;TZID=America/Toronto:20220114T090000
DTEND;TZID=America/Toronto:20220114T160000
DTSTAMP:20260421T140225
CREATED:20220112T170129Z
LAST-MODIFIED:20220112T170129Z
UID:5900-1642150800-1642176000@volunteermarkham.ca
SUMMARY:Winter PA Days at Earthbound Kids
DESCRIPTION:Kids will get a chance at horseback riding\, sports\, BMX biking*\, arts & crafts\, and more. Both of our camp programs offer a different theme each day. Winter activities include snowshoeing\, ice skating\, and learning how animals survive in the winter – plus all the regular fun we have on PA Days at the farm! \n
URL:https://volunteermarkham.ca/event/winter-pa-days-at-earthbound-kids/
LOCATION:york region
END:VEVENT
END:VCALENDAR