BEGIN:VCALENDAR
VERSION:2.0
PRODID:-//Volunteer Connect York Region - ECPv4.8.2//NONSGML v1.0//EN
CALSCALE:GREGORIAN
METHOD:PUBLISH
X-WR-CALNAME:Volunteer Connect York Region
X-ORIGINAL-URL:https://volunteermarkham.ca
X-WR-CALDESC:Events for Volunteer Connect York Region
BEGIN:VEVENT
DTSTART;TZID=America/Toronto:20200214T103000
DTEND;TZID=America/Toronto:20200214T140000
DTSTAMP:20260423T214628
CREATED:20191230T195537Z
LAST-MODIFIED:20191230T195537Z
UID:2136-1581676200-1581688800@volunteermarkham.ca
SUMMARY:Valentine’s Blood Pressure Clinic at Mosaic
DESCRIPTION:Drop-in to get your blood pressure checked by a Mosaic nurse this Valentine’s Day! Enjoy some sweet treats and take a blood pressure booklet home with you after your visit. \nDate: Friday February 14th\, 2020 Time: 10:30 a.m. to 2:00 p.m. Where: Mosaic Home Care & Community Resource Centre Program held in Community Centre on Main Level. Address: 2900 Steeles Avenue East\, Markham (Lower Level by Centre Court) No charge for event. Free parking. Close to public transit. \n
URL:https://volunteermarkham.ca/event/valentines-blood-pressure-clinic-at-mosaic/
LOCATION:Mosaic Home Care & Community Resource Centre\, 2900 Steeles Avenue East\, Markham\, Ontario\, Canada
END:VEVENT
END:VCALENDAR