BEGIN:VCALENDAR
VERSION:2.0
PRODID:-//Volunteer Connect York Region - ECPv4.8.2//NONSGML v1.0//EN
CALSCALE:GREGORIAN
METHOD:PUBLISH
X-WR-CALNAME:Volunteer Connect York Region
X-ORIGINAL-URL:https://volunteermarkham.ca
X-WR-CALDESC:Events for Volunteer Connect York Region
BEGIN:VEVENT
DTSTART;VALUE=DATE:20200220
DTEND;VALUE=DATE:20200224
DTSTAMP:20260423T200053
CREATED:20200107T171807Z
LAST-MODIFIED:20200107T171807Z
UID:2247-1582156800-1582502399@volunteermarkham.ca
SUMMARY:Unionville Theatre Company presents Cinderella
DESCRIPTION:  \nUnionville Theatre Company presents Cinderella\n\nThursday\, February 20 to Sunday\, February 23\, 2020\n\nVenue: FLATO Markham Theatre\n171 Town Centre Blvd.  map\n\nRodgers + Hammerstein’s CINDERELLA is the Tony Award®-winning musical from the creators of South Pacific and The Sound of Music that’s delighting audiences with its surprisingly contemporary take on the classic tale. This lush production features an incredible orchestra\, jaw-dropping transformations and all the moments you love—the pumpkin\, the glass slipper\, the masked ball and more—plus some surprising new twists! Be transported back to your childhood as you rediscover some of Rodgers + Hammerstein’s most beloved songs\, including “In My Own Little Corner\,” “Impossible/It’s Possible” and “Ten Minutes Ago” in this hilarious and romantic experience for anyone who’s ever had a dream. \n
URL:https://volunteermarkham.ca/event/unionville-theatre-company-presents-cinderella/
LOCATION:Flato Markham Theatre\, 171 Town Centre Blvd\, Markham\, Ontario\, Canada
ORGANIZER;CN="Unionville%20Theatre%20Company":MAILTO:boxoffice@markham.ca
END:VEVENT
END:VCALENDAR