BEGIN:VCALENDAR
VERSION:2.0
PRODID:-//Volunteer Connect York Region - ECPv4.8.2//NONSGML v1.0//EN
CALSCALE:GREGORIAN
METHOD:PUBLISH
X-WR-CALNAME:Volunteer Connect York Region
X-ORIGINAL-URL:https://volunteermarkham.ca
X-WR-CALDESC:Events for Volunteer Connect York Region
BEGIN:VEVENT
DTSTART;VALUE=DATE:20200207
DTEND;VALUE=DATE:20200210
DTSTAMP:20260424T094422
CREATED:20200121T140929Z
LAST-MODIFIED:20200121T140929Z
UID:2280-1581033600-1581292799@volunteermarkham.ca
SUMMARY:Trillium Cup - International Rhythmic Gymnastics Tournament
DESCRIPTION:Trillium Rhythmic Gymnastics Club will be hosting 2020 Trillium Cup at the Markham Pan Am Centre.\n\nEvent Organizer: Trillium RG Club\nOver 150 athletes will be competing in this event.\nFriday\, February 7 to Sunday\, February 9\, 2020\n
URL:https://volunteermarkham.ca/event/trillium-cup-international-rhythmic-gymnastics-tournament/
LOCATION:Markham Pan Am Centre\, 16 Main Street\, Markham\, Ontario\, Canada
END:VEVENT
END:VCALENDAR