BEGIN:VCALENDAR
VERSION:2.0
PRODID:-//Volunteer Connect York Region - ECPv4.8.2//NONSGML v1.0//EN
CALSCALE:GREGORIAN
METHOD:PUBLISH
X-WR-CALNAME:Volunteer Connect York Region
X-ORIGINAL-URL:https://volunteermarkham.ca
X-WR-CALDESC:Events for Volunteer Connect York Region
BEGIN:VEVENT
DTSTART;TZID=America/Toronto:20221103T173000
DTEND;TZID=America/Toronto:20221103T190000
DTSTAMP:20260425T102732
CREATED:20221101T163457Z
LAST-MODIFIED:20221101T163457Z
UID:7291-1667496600-1667502000@volunteermarkham.ca
SUMMARY:Technologies that help enhance your presentation at school and work
DESCRIPTION:Looking to improve your productivity and quality of work for your school or job? Good news! In our next online workshop\, we are going to explore technologies that will help you enhance your presentations for both school and work. 😁 \nDate: November 3\, 2022 (Thursday)\nTime: 5:30 p.m. to 7:00 p.m.\nLanguage: English\nLocation: Zoom (Online Workshop) Meeting link will be emailed to you after you fill out the online registration form. \nFind the registration link here: https://tccsa.on.ca/event/technologies/ \nFor any questions please email: ewong@tccsa.org \n
URL:https://volunteermarkham.ca/event/technologies-that-help-enhance-your-presentation-at-school-and-work/
LOCATION:Virtual
ATTACH;FMTTYPE=image/jpeg:https://volunteermarkham.ca/wp-content/uploads/2022/11/Screenshot-2022-11-01-112038.jpg
ORGANIZER;CN="The%20Cross-Cultural%20Community%20Services%20Association%20%28TCCSA%29":MAILTO:yrr@tccsa.org
END:VEVENT
END:VCALENDAR