BEGIN:VCALENDAR
VERSION:2.0
PRODID:-//Volunteer Connect York Region - ECPv4.8.2//NONSGML v1.0//EN
CALSCALE:GREGORIAN
METHOD:PUBLISH
X-WR-CALNAME:Volunteer Connect York Region
X-ORIGINAL-URL:https://volunteermarkham.ca
X-WR-CALDESC:Events for Volunteer Connect York Region
BEGIN:VEVENT
DTSTART;TZID=America/Toronto:20220701T110000
DTEND;TZID=America/Toronto:20220701T130000
DTSTAMP:20260420T182644
CREATED:20220615T132813Z
LAST-MODIFIED:20220615T132813Z
UID:6197-1656673200-1656680400@volunteermarkham.ca
SUMMARY:TCCSA's Canada Day Celebration
DESCRIPTION:We are inviting you to TCCSA’s Canada Day Celebration! We will have performances\, activity booths\, a photo booth\, raffle prizes\, and a cake cutting ceremony. Join us live in-person or virtual for this community event. Pre-registration is highly recommended to be entered into our raffle draw! \n
URL:https://volunteermarkham.ca/event/tccsas-canada-day-celebration/
LOCATION:Metro Square\, 3636 Steeles Avenue East\, Markham\, Ontario\, L3R 1K9\, Canada
CATEGORIES:Events,Public events
ATTACH;FMTTYPE=image/jpeg:https://volunteermarkham.ca/wp-content/uploads/2022/06/Canada-Day-Poster-E.jpg
ORGANIZER;CN="The%20Cross-Cultural%20Community%20Services%20Association%20%28TCCSA%29":MAILTO:yrr@tccsa.org
END:VEVENT
END:VCALENDAR