BEGIN:VCALENDAR
VERSION:2.0
PRODID:-//Volunteer Connect York Region - ECPv4.8.2//NONSGML v1.0//EN
CALSCALE:GREGORIAN
METHOD:PUBLISH
X-WR-CALNAME:Volunteer Connect York Region
X-ORIGINAL-URL:https://volunteermarkham.ca
X-WR-CALDESC:Events for Volunteer Connect York Region
BEGIN:VEVENT
DTSTART;TZID=America/Toronto:20221031T160000
DTEND;TZID=America/Toronto:20221031T170000
DTSTAMP:20260420T182645
CREATED:20220929T120449Z
LAST-MODIFIED:20220929T120449Z
UID:6576-1667232000-1667235600@volunteermarkham.ca
SUMMARY:TCCSA Halloween Event
DESCRIPTION:A Halloween Event for newcomer families filled with fun activities\, treats\, and raffle prizes! The first 8 newcomer registrants will receive a $5.00 Metro Square Coupon. More details available upon registration! We hope to see you for a spook-tastic time! \nTo register\, please scan the QR code\, or email Qicheng at qsun@tccsa.org \n
URL:https://volunteermarkham.ca/event/tccsa-halloween-event/
LOCATION:TCCSA\, 213A-3636 Steeles Ave E.\, Markham\, Ontario\, L3R 1K9\, Canada
CATEGORIES:Events,Public events
ATTACH;FMTTYPE=image/png:https://volunteermarkham.ca/wp-content/uploads/2022/09/Capture.png
ORGANIZER;CN="The%20Cross-Cultural%20Community%20Services%20Association%20%28TCCSA%29":MAILTO:yrr@tccsa.org
END:VEVENT
END:VCALENDAR