BEGIN:VCALENDAR
VERSION:2.0
PRODID:-//Volunteer Connect York Region - ECPv4.8.2//NONSGML v1.0//EN
CALSCALE:GREGORIAN
METHOD:PUBLISH
X-WR-CALNAME:Volunteer Connect York Region
X-ORIGINAL-URL:https://volunteermarkham.ca
X-WR-CALDESC:Events for Volunteer Connect York Region
BEGIN:VEVENT
DTSTART;TZID=America/Toronto:20221107T163000
DTEND;TZID=America/Toronto:20221107T171500
DTSTAMP:20260425T104031
CREATED:20221012T170705Z
LAST-MODIFIED:20221012T170705Z
UID:6594-1667838600-1667841300@volunteermarkham.ca
SUMMARY:Student Success and Stress Management for Highschool\, College and University Students
DESCRIPTION:Are you a student in high school\, college or university? Have you experienced stress during your academic journey and if so\, how did you manage them? \nWe invite you to join us for this workshop to learn more about: \nTips for succeeding in school and a discussion on “student success”\nCoping strategies to manage your stress while in high school\, college or university \nThis program is presented in partnership with the Counseling and Accessibility Services from Seneca College. \n
URL:https://volunteermarkham.ca/event/student-success-and-stress-management-for-highschool-college-and-university-students/
END:VEVENT
END:VCALENDAR