BEGIN:VCALENDAR
VERSION:2.0
PRODID:-//Volunteer Connect York Region - ECPv4.8.2//NONSGML v1.0//EN
CALSCALE:GREGORIAN
METHOD:PUBLISH
X-WR-CALNAME:Volunteer Connect York Region
X-ORIGINAL-URL:https://volunteermarkham.ca
X-WR-CALDESC:Events for Volunteer Connect York Region
BEGIN:VEVENT
DTSTART;TZID=America/Toronto:20220716T110000
DTEND;TZID=America/Toronto:20220716T230000
DTSTAMP:20260420T201121
CREATED:20220712T202058Z
LAST-MODIFIED:20220712T202058Z
UID:6315-1657969200-1658012400@volunteermarkham.ca
SUMMARY:Stouffville Fusion Fest
DESCRIPTION:Stouffville Fusion Fest\, a taste of the Mediterranean\, is a free cultural event that celebrates the culture\, culinary delights\, music\, and entertainment of the Mediterranean. \nThe event is organized by Eventastic Productions\, a company that is focused on high-profile events\, festivals\, heritage days\, and private and corporate special events. The Stouffville Fusion Festival is supported by the Town of Stouffville and the Charity of Choice\, the Whitchurch-Stouffville Food Bank. \nAlthough the many cultures of the Mediterranean are distinctly different\, they have one thing in common — the most delicious culinary cuisine in the world. \n
URL:https://volunteermarkham.ca/event/stouffville-fusion-fest/
END:VEVENT
END:VCALENDAR