BEGIN:VCALENDAR
VERSION:2.0
PRODID:-//Volunteer Connect York Region - ECPv4.8.2//NONSGML v1.0//EN
CALSCALE:GREGORIAN
METHOD:PUBLISH
X-WR-CALNAME:Volunteer Connect York Region
X-ORIGINAL-URL:https://volunteermarkham.ca
X-WR-CALDESC:Events for Volunteer Connect York Region
BEGIN:VEVENT
DTSTART;TZID=America/Toronto:20230418T150000
DTEND;TZID=America/Toronto:20230418T170000
DTSTAMP:20260425T011053
CREATED:20230329T173512Z
LAST-MODIFIED:20230329T173512Z
UID:12232-1681830000-1681837200@volunteermarkham.ca
SUMMARY:Still I Rise Documentary Screening presented by Women Support Network
DESCRIPTION:Join WSN for a screening of the documentary Still I Rise on April 18 at 3PM! Still I Rise explores the relationship between racism and sex trafficking with dynamic womxn closest to the problem and the solutions. Register at the Eventbrite link: https://www.eventbrite.ca/e/still-i-rise-documentary-screening-talk-back-tickets-597750175867?aff=ebdsoporgprofile \nMany mainstream documentaries about human trafficking fail to acknowledge that Black women\, girls and femmes are disproportionately affected by sex trafficking. Furthermore\, many of these documentaries do not discuss the experiences of Black survivors. \nStill I Rise explores the relationship between racism and sex trafficking with dynamic womxn closest to the problem and the solutions. Over the course of five years in the Bay Area\, we follow the lives of brilliant pioneering advocates\, Holly Joshi and Leah Albright-Byrd. \nJ﻿oin us for a screening of Still I Rise and talk back where attendees can share their new learnings. \nL﻿earn more about the film: http://www.stillirisethefilm.com/ \n
URL:https://volunteermarkham.ca/event/still-i-rise-documentary-screening-presented-by-women-support-network/
LOCATION:Virtual
ATTACH;FMTTYPE=image/jpeg:https://volunteermarkham.ca/wp-content/uploads/2023/03/Screenshot-2023-03-29-133334.jpg
ORGANIZER;CN="Women%20Support%20Network%20of%20York%20Region":MAILTO:info@womenssupportnetwork.ca
END:VEVENT
END:VCALENDAR