BEGIN:VCALENDAR
VERSION:2.0
PRODID:-//Volunteer Connect York Region - ECPv4.8.2//NONSGML v1.0//EN
CALSCALE:GREGORIAN
METHOD:PUBLISH
X-WR-CALNAME:Volunteer Connect York Region
X-ORIGINAL-URL:https://volunteermarkham.ca
X-WR-CALDESC:Events for Volunteer Connect York Region
BEGIN:VEVENT
DTSTART;VALUE=DATE:20230402
DTEND;VALUE=DATE:20230403
DTSTAMP:20260425T011135
CREATED:20230329T164727Z
LAST-MODIFIED:20230329T164727Z
UID:12192-1680393600-1680479999@volunteermarkham.ca
SUMMARY:Starbucks: Autism Awareness & Acceptance Month Book Reading Event
DESCRIPTION:Join us this Sunday\, April 2nd for a book reading event!  \nThis is an open event\, so feel free to stop by!  \nFood and beverage samples will be provided 🤍 \nLocation: Starbucks @  201 Mainstreet\, Unionville \n6:00am – 10:00pm \n
URL:https://volunteermarkham.ca/event/starbucks-autism-awareness-acceptance-month-book-reading-event/
LOCATION:starbucks unionville\, 201 Mainstreet\, Unionville\, Ontario\, Canada
ATTACH;FMTTYPE=image/jpeg:https://volunteermarkham.ca/wp-content/uploads/2023/03/Screenshot-2023-03-29-124247.jpg
END:VEVENT
END:VCALENDAR