BEGIN:VCALENDAR
VERSION:2.0
PRODID:-//Volunteer Connect York Region - ECPv4.8.2//NONSGML v1.0//EN
CALSCALE:GREGORIAN
METHOD:PUBLISH
X-WR-CALNAME:Volunteer Connect York Region
X-ORIGINAL-URL:https://volunteermarkham.ca
X-WR-CALDESC:Events for Volunteer Connect York Region
BEGIN:VEVENT
DTSTART;TZID=America/Toronto:20220117T100000
DTEND;TZID=America/Toronto:20220117T120000
DTSTAMP:20260421T105327
CREATED:20220106T205802Z
LAST-MODIFIED:20220106T205802Z
UID:5784-1642413600-1642420800@volunteermarkham.ca
SUMMARY:South Markham Quick Action Grants - Information Session
DESCRIPTION:Are you interested in leading a project to support mental health & mental being or housing stability in South-Central Markham? \nIn 2019\, York Region Council approved a place-based approach to developing York Region’s Community Safety & Well-Being (CSWB) Plan and authorized a process to identify geographic areas of focus. United Way Greater Toronto (UWGT) has partnered with York Region\, Agincourt Community Services Association (ACSA) and Social Services Network (SSN) to support a place-based Community Action Table (CAT) in South-Central Markham to help deliver on the CSWB plan. In South Markham\, the local priorities identified were:\nMental Health & Mental Well-being\nHousing Stability \nAs part of this work\, UWGT has provided Agincourt Community Services Association with fifteen-thousand dollars ($15\,000) to support local neighbourhoods to explore and initiate new actions in parallel with the work and priorities of the Community Action Table. \nResidents\, agencies and grassroots organizations from South Markham are encouraged to apply in order to address the local priorities. Register for an info session to learn about United Way’s Quick Action Grants and how it may support your idea! \nRegister today:\nhttps://forms.gle/pn1pxTKcixnPRJ1b8 \nThe application deadline for South Markham’s Quick Action Grants – Round 1 is January 21\, 2022 -11:59pm. There will be a total of 3 rounds. \nHave questions? Connect with us! \nLaura Harper\nhlaura@agincourtcommunityservices.com\n(416) 292-6912\, ext. 301 \nJen D. Fabico-Smith\nfjen@agincourtcommunityservices.com\n(647) 209-9981 \n
URL:https://volunteermarkham.ca/event/south-markham-quick-action-grants-information-session/
LOCATION:Zoom Online
CATEGORIES:Fundraising events,Informational events
ATTACH;FMTTYPE=image/png:https://volunteermarkham.ca/wp-content/uploads/2022/01/QAG-Info-Sessions-Flyer.png
ORGANIZER;CN="ACSA":MAILTO:fjen@agincourtcommunityservices.com
END:VEVENT
END:VCALENDAR