BEGIN:VCALENDAR
VERSION:2.0
PRODID:-//Volunteer Connect York Region - ECPv4.8.2//NONSGML v1.0//EN
CALSCALE:GREGORIAN
METHOD:PUBLISH
X-WR-CALNAME:Volunteer Connect York Region
X-ORIGINAL-URL:https://volunteermarkham.ca
X-WR-CALDESC:Events for Volunteer Connect York Region
BEGIN:VEVENT
DTSTART;TZID=America/Toronto:20210911T200000
DTEND;TZID=America/Toronto:20210911T213000
DTSTAMP:20260421T035206
CREATED:20210922T173152Z
LAST-MODIFIED:20210922T173152Z
UID:4982-1631390400-1631395800@volunteermarkham.ca
SUMMARY:SHOSTAKOVICH'S 14th SYMPHONY
DESCRIPTION:The Kindred Spirits Orchestra presents uniquely orchestrated compositions from two unique European masters of twentieth century music. Deeply touched by his fellow composer’s death\, and scored for tubular bell and string orchestra\, Arvo Pärt’s Cantus in Memoriam Benjamin Britten is a mournful and meditative elegy. Dmitri Shostakovich’s most extraordinarily scored symphony is his Fourteenth. Written for two solo voices\, string orchestra and percussion\, this work is a profound ode to the power of suffering and death. Presented in original (Russian) language with surtitles in English. \nKristian Alexander | conductor\nStephanie DeCiantis | soprano\nJohn Holland | bass-baritone\nMichael Berec | host \nIn-person concert.\nIn commemoration of the 20th anniversary of 9/11. \n
URL:https://volunteermarkham.ca/event/shostakovichs-14th-symphony/
LOCATION:SMSV Cultural Centre\, 3300 Highway 7 East\, Markham\, Ontario\, L3R 8C3\, Canada
CATEGORIES:Events
ATTACH;FMTTYPE=image/jpeg:https://volunteermarkham.ca/wp-content/uploads/2021/09/October-17-2020.jpg
ORGANIZER;CN="Kindred%20Spirits%20Orchestra":MAILTO:info@KSOrchestra.ca
END:VEVENT
END:VCALENDAR