BEGIN:VCALENDAR
VERSION:2.0
PRODID:-//Volunteer Connect York Region - ECPv4.8.2//NONSGML v1.0//EN
CALSCALE:GREGORIAN
METHOD:PUBLISH
X-WR-CALNAME:Volunteer Connect York Region
X-ORIGINAL-URL:https://volunteermarkham.ca
X-WR-CALDESC:Events for Volunteer Connect York Region
BEGIN:VEVENT
DTSTART;TZID=America/Toronto:20200304T073000
DTEND;TZID=America/Toronto:20200304T204500
DTSTAMP:20260422T224153
CREATED:20200225T184849Z
LAST-MODIFIED:20200225T184849Z
UID:2433-1583307000-1583354700@volunteermarkham.ca
SUMMARY:SENIORS SOCIAL GATHERING
DESCRIPTION:\n\n\n\n\n\n\n\n\nFun social gathering for Seniors in the community\n\n\n\n\n\n\n\n\n\n\nDay/Time  : March 4\, 2020 from 7:30pm to 8:45pm\n\n\nLocation\n\n\nST MAURICE AND ST VERENA COPTIC ORTHODOX CHURCH3300 HIGHWAY 7 EASTMARKHAM\, ON\nL3R5N9\n\n\n\nWebsite: www.smsv.ca\n\n\n\n\n\n\n
URL:https://volunteermarkham.ca/event/seniors-social-gathering/
LOCATION:ST MAURICE AND ST VERENA COPTIC ORTHODOX CHURCH\, 3300 HIGHWAY 7 EAST\, Markham\, Ontario\, L3R5N9\, Canada
END:VEVENT
END:VCALENDAR