BEGIN:VCALENDAR
VERSION:2.0
PRODID:-//Volunteer Connect York Region - ECPv4.8.2//NONSGML v1.0//EN
CALSCALE:GREGORIAN
METHOD:PUBLISH
X-WR-CALNAME:Volunteer Connect York Region
X-ORIGINAL-URL:https://volunteermarkham.ca
X-WR-CALDESC:Events for Volunteer Connect York Region
BEGIN:VEVENT
DTSTART;TZID=America/Toronto:20200509T100000
DTEND;TZID=America/Toronto:20200509T150000
DTSTAMP:20260421T151807
CREATED:20200226T170351Z
LAST-MODIFIED:20200226T170351Z
UID:2545-1589018400-1589036400@volunteermarkham.ca
SUMMARY:Science Rendezvous
DESCRIPTION:\n10 a.m. to 3 p.m.\n\n\nBringing Science from the lab to the street!\n\nEvery year the Faculty of Science at York University joins forces with Main Street Markham  (map) to present Science Rendezvous.\n\nThis year’s Science Rendezvous will be held on May 9\, 2020. York University scientists will be on site to conduct exciting science demonstrations\, hands-on activities\, and cool experiments!\n\nClick here for more information about Science Rendezvous.\n
URL:https://volunteermarkham.ca/event/science-rendezvous/
LOCATION:Main Street Markham\, Main Street Markham\, Markham\, Ontario\, Canada
END:VEVENT
END:VCALENDAR