BEGIN:VCALENDAR
VERSION:2.0
PRODID:-//Volunteer Connect York Region - ECPv4.8.2//NONSGML v1.0//EN
CALSCALE:GREGORIAN
METHOD:PUBLISH
X-WR-CALNAME:Volunteer Connect York Region
X-ORIGINAL-URL:https://volunteermarkham.ca
X-WR-CALDESC:Events for Volunteer Connect York Region
BEGIN:VEVENT
DTSTART;TZID=America/Toronto:20201003T090000
DTEND;TZID=America/Toronto:20201003T170000
DTSTAMP:20260421T053456
CREATED:20200909T195325Z
LAST-MODIFIED:20200909T195325Z
UID:2869-1601715600-1601744400@volunteermarkham.ca
SUMMARY:Ride For Refuge
DESCRIPTION:\n \n\n\n\n\n\n\n\n\n\n\n\n\n\n\n\n\n\n\n\nRIDE FOR REFUGE is a family-friendly virtual fundraiser held on Saturday\, October 3\, 2020\, across Canada\, that helps support charities who provide refuge and hope for some of the most vulnerable people on earth. \nHow To Participate: \n\nRegister yourself or a team to RIDE with 360°kids\nFundraise with the support of your family and friends!\nMiss your work colleagues?  Register your company team and challenge each other to activities on their own time and in the safety of their own neighbourhood\nPrepare for your RIDE day on or before October 3\, 2020. Have fun\, get moving and raise funds for 360°kids’ programs!\n\nWhat better way to get out and connect as a family or group\, participate in a fun activity together any time on or before October 3rd\, and support a great cause. Walk\, run\, bike\, paddle\, bake\, BBQ and more while raising much-needed funds for vulnerable youth in our community. \nYour participation in RIDE is helping to make an important difference in the lives of youth in York Region who are deeply and often permanently affected by forces and events they can’t control. Join us in standing up for them today.\n\n\n\n\n\n\n\n\n\n\n\n\n\n\n\n\n\n\n\n  \n\n\n
URL:https://volunteermarkham.ca/event/ride-for-refuge/
ORGANIZER;CN="360%20Kids":MAILTO:info@360kids.ca
END:VEVENT
END:VCALENDAR