BEGIN:VCALENDAR
VERSION:2.0
PRODID:-//Volunteer Connect York Region - ECPv4.8.2//NONSGML v1.0//EN
CALSCALE:GREGORIAN
METHOD:PUBLISH
X-WR-CALNAME:Volunteer Connect York Region
X-ORIGINAL-URL:https://volunteermarkham.ca
X-WR-CALDESC:Events for Volunteer Connect York Region
BEGIN:VEVENT
DTSTART;TZID=America/Toronto:20210711T140000
DTEND;TZID=America/Toronto:20210711T150000
DTSTAMP:20260421T015021
CREATED:20210628T144856Z
LAST-MODIFIED:20210628T144856Z
UID:4525-1626012000-1626015600@volunteermarkham.ca
SUMMARY:Remembering Tokyo 1964
DESCRIPTION:The countdown is on!  With local Team Canada athletes ready to take on Tokyo in the 2020 Olympic games\, the community is ready to show support as the athletes take the world stage. \nGet in the Olympic spirit and show your hometown pride.  Tune in to Remembering Tokyo 1964 for an intimate conversation with Markham Olympic Silver Medalist Bill Crothers (Tokyo 1964) and Order of Canada Journalist and news anchor Lloyd Robertson whose first overseas assignment was the Tokyo 1964 Olympic Games. \nSunday\, July 11 at 2pm \nModerated y Martha Mingay \nPresented by:  The Friends of Markham Museum \nJoin the presentation Online: \nmarkham.ca/rememberingtokyo64 \n
URL:https://volunteermarkham.ca/event/remembering-tokyo-1964/
ORGANIZER;CN="City%20of%20Markham":MAILTO:hnewton@markham.ca
END:VEVENT
END:VCALENDAR