BEGIN:VCALENDAR
VERSION:2.0
PRODID:-//Volunteer Connect York Region - ECPv4.8.2//NONSGML v1.0//EN
CALSCALE:GREGORIAN
METHOD:PUBLISH
X-WR-CALNAME:Volunteer Connect York Region
X-ORIGINAL-URL:https://volunteermarkham.ca
X-WR-CALDESC:Events for Volunteer Connect York Region
BEGIN:VEVENT
DTSTART;TZID=America/Toronto:20200228T190000
DTEND;TZID=America/Toronto:20200228T223000
DTSTAMP:20260423T054746
CREATED:20200107T173234Z
LAST-MODIFIED:20200107T173234Z
UID:2256-1582916400-1582929000@volunteermarkham.ca
SUMMARY:PechaKucha Night Markham Vol. 24
DESCRIPTION:PechaKucha Night Markham Vol. 24\n\nFriday\, February 28\, 2020\n\n7:30 p.m. – 10:30 p.m.\n\nLocation: Varley Art Gallery of Markham\n216 Main Street Unionville  map\n\nLinking our community 20 seconds at a time.\n\nThe Markham Public Library and the Varley Art Gallery have collaborated to host PechaKucha Nights in the City of Markham.\n\nEngage with artists and innovators\, passionate students and entrepreneurs from across York Region to hear about their projects\, experiences\, struggles and successes to get where they are today.\n\nEnjoy complimentary appetizers and a cash bar; Beer and wine served during our break. (Must be 19+. Please drink responsibly.)\n\nPay-What-You-Want to get in on the action. You will have time to network\, drink\, eat and dance\, but please remember to GIVE GENEROUSLY! $1 from each attendee’s contribution is donated to the Global PechaKucha Night fund to support over 900 cities world-wide who host these events.\n\nVisit pechakucha.org for more information.\n\nSpecial thanks goes to:\nMy Little Pizzeria and Deli for providing us with fuel.\nCoffee Culture Markham for bringing on the caffeine.\n\nContributing Sponsors:\nTreefrog – for supporting us from day one!\n\nCommunity Partners:\nBusiness & Office Centro – for providing us with all the beautiful marketing materials.\n\nPlatform for Youth Creativity – for keeping us cool with great entertainment throughout the night.\n\nPechaKucha Night Vol. 24 hosts:\nAriana Ferrone\nCommunity Librarian – Culture and Creative Expression\nMarkham Public Library\nRachel D. Fell\n\nPrograms Coordinator\nVarley Art Gallery of Markham\n\n
URL:https://volunteermarkham.ca/event/pechakucha-night-markham-vol-24/
LOCATION:Varley Art Gallery\, 216 Main Street\, Unionville\, Ontario\, L3R 2H1\, Canada
END:VEVENT
END:VCALENDAR