BEGIN:VCALENDAR
VERSION:2.0
PRODID:-//Volunteer Connect York Region - ECPv4.8.2//NONSGML v1.0//EN
CALSCALE:GREGORIAN
METHOD:PUBLISH
X-WR-CALNAME:Volunteer Connect York Region
X-ORIGINAL-URL:https://volunteermarkham.ca
X-WR-CALDESC:Events for Volunteer Connect York Region
BEGIN:VEVENT
DTSTART;TZID=America/Toronto:20200205T100000
DTEND;TZID=America/Toronto:20200205T160000
DTSTAMP:20260424T114728
CREATED:20200121T140138Z
LAST-MODIFIED:20200121T140138Z
UID:2272-1580896800-1580918400@volunteermarkham.ca
SUMMARY:MSBC Info Session: CRA Corporate Tax Info Session
DESCRIPTION: This free seminar will only talk about Corporate Tax.\n\nIf you have Corporate tax-related questions\, here is your chance to get them answered!\n\nOur seminars are held by CRA professionals and will help you learn about:\n\n\nBusiness tax deductions\nCommon tax errors\nHelpful tools and services offered by the CRA\nGeneral bookkeeping concepts and best practices\ntwo sessions 10AM-1PM and 1PM -4PM\n\n\n
URL:https://volunteermarkham.ca/event/msbc-info-session-cra-corporate-tax-info-session/
LOCATION:IBM Innovation Space – Markham Convergence Centre\, 3600 Steeles Avenue East\, Markham\, Ontario\, Canada
END:VEVENT
END:VCALENDAR