BEGIN:VCALENDAR
VERSION:2.0
PRODID:-//Volunteer Connect York Region - ECPv4.8.2//NONSGML v1.0//EN
CALSCALE:GREGORIAN
METHOD:PUBLISH
X-WR-CALNAME:Volunteer Connect York Region
X-ORIGINAL-URL:https://volunteermarkham.ca
X-WR-CALDESC:Events for Volunteer Connect York Region
BEGIN:VEVENT
DTSTART;TZID=America/Toronto:20200316T133000
DTEND;TZID=America/Toronto:20200316T150000
DTSTAMP:20260422T080110
CREATED:20200225T185951Z
LAST-MODIFIED:20200225T195752Z
UID:2438-1584365400-1584370800@volunteermarkham.ca
SUMMARY:Mosaic’s Community Café
DESCRIPTION:\n\n\n\n\n\n \n\n\n\n\n\n\nJoin Mosaic and members of our community once a month\, for an afternoon of ideas\, fun\, connection and social interaction. Our community café is a space for everyone\, whether you want to sit and listen\, talk and take part or lead and grow the community and its connections. There will be activities and events as well as discussion and development of ideas as to how our communities could be better run and more deeply connected. Stay engaged\, active and involved! \nWhere: Mosaic Home Care & Community Resource Centre (Markham Office) Address: 2900 Steeles Avenue East\, Markham (Lower Level by Centre Court) Dates:  March 16th 2020 Time: 1:30 p.m. to 3:00 p.m. Resumes Monday\, April 20th 2020\, 1:30 p.m. to 3:00 p.m. \nRSVP to attend by calling 905.597.7000 or info@mosaichomecare.com \nNo charge for event. Refreshments provided. Free parking. Close to public transit. \n\n\n\n\n\n\n\n\n<Additional Details>\n\n\n\n\n\n\n\n\n\n\n\nContact:\nMosaic Home Care & Community Resource Centres\n\n\nPhone:\n9055977000\n\n\nWebsite:\nwww.mosaichomecare.com/events/\n\n\nContact Email:\ninfo@mosaichomecare.com\n\n\n\n\n\n\n
URL:https://volunteermarkham.ca/event/mosaics-community-cafe/
LOCATION:Mosaic Home Care & Community Resource Centre\, 2900 Steeles Avenue East\,\, Markham\, Ontario\, Canada
ORGANIZER;CN="Mosaic%20Home%20Care%20%26%20Community%20Resource%20Centres":MAILTO:info@mosaichomecare.com
END:VEVENT
END:VCALENDAR