BEGIN:VCALENDAR
VERSION:2.0
PRODID:-//Volunteer Connect York Region - ECPv4.8.2//NONSGML v1.0//EN
CALSCALE:GREGORIAN
METHOD:PUBLISH
X-WR-CALNAME:Volunteer Connect York Region
X-ORIGINAL-URL:https://volunteermarkham.ca
X-WR-CALDESC:Events for Volunteer Connect York Region
BEGIN:VEVENT
DTSTART;TZID=America/Toronto:20230515T173000
DTEND;TZID=America/Toronto:20230515T183000
DTSTAMP:20260424T232236
CREATED:20230419T172100Z
LAST-MODIFIED:20230420T172025Z
UID:12429-1684171800-1684175400@volunteermarkham.ca
SUMMARY:MNP Interview Skills Presentation for HighSchool Students
DESCRIPTION:MNP Interview Skills Presentation for HighSchool Students \nDate: Friday May 15th\, 2023\nTime: 5:30pm-6:30pm\nLocation: Virtual Microsoft Teams Meet \nRegistration: Registration required: MNP-https://docs.google.com/forms/d/16Hd8NMSA-iIXrwWetXFPmIh49sBp6avshs4Q6kCOYww/edit \nOther info: Volunteer hours will be granted to York Region High School students by VCYR Program Manager post presentation attendance and/or participation. 1 hour for attendance 2 hours for attendance & participation. \n
URL:https://volunteermarkham.ca/event/mnp-interview-skills-presentation-for-highschool-students/
LOCATION:Virtual
ATTACH;FMTTYPE=image/png:https://volunteermarkham.ca/wp-content/uploads/2023/04/INTERESTED-IN-INTERVIEW-AND-RESUME-WRITING-WORKSHOP-3.png
ORGANIZER;CN="Volunteer%20Connect%20York%20Region":MAILTO:info@volunteerconnect.ca
END:VEVENT
END:VCALENDAR