BEGIN:VCALENDAR
VERSION:2.0
PRODID:-//Volunteer Connect York Region - ECPv4.8.2//NONSGML v1.0//EN
CALSCALE:GREGORIAN
METHOD:PUBLISH
X-WR-CALNAME:Volunteer Connect York Region
X-ORIGINAL-URL:https://volunteermarkham.ca
X-WR-CALDESC:Events for Volunteer Connect York Region
BEGIN:VEVENT
DTSTART;TZID=America/Toronto:20221119T160000
DTEND;TZID=America/Toronto:20221119T210000
DTSTAMP:20260425T103807
CREATED:20221101T163310Z
LAST-MODIFIED:20221101T163310Z
UID:7296-1668873600-1668891600@volunteermarkham.ca
SUMMARY:Merry Marketplace
DESCRIPTION:Join us for some holiday cheers this winter at Richmond Hill’s first-ever Merry Marketplace! For five consecutive Saturday’s starting November 19\, Richmond Green Park will be transformed into an outdoor holiday shopping experience featuring local artisans showcasing and selling their unique holiday themed offerings\, live entertainment\, food concessions and more. Enjoy the Merry Marketplace while soaking in the dazzling display of winter lights (dusk to 10 p.m. daily) at this destination park! \nLocation:1300 Elgin Mills Road East\, Richmond Hill\, ON L4S 1M5 \nDates and Times\nSaturday\, November 19\, 26 (4 – 9 p.m.)\nSaturday\, December 3\, 10\, 17 (4 – 9 p.m.)\n* Note winter light displays will be on daily from dusk to 10 p.m. \n
URL:https://volunteermarkham.ca/event/merry-marketplace/2022-11-19/
LOCATION:Richmond Green Park\, 1300 Elgin Mills Rd. E.\, Richmond Hill\, Ontario\, L4S 1M5\, Canada
ATTACH;FMTTYPE=image/jpeg:https://volunteermarkham.ca/wp-content/uploads/2022/11/Screenshot-2022-11-01-114406.jpg
END:VEVENT
END:VCALENDAR