BEGIN:VCALENDAR
VERSION:2.0
PRODID:-//Volunteer Connect York Region - ECPv4.8.2//NONSGML v1.0//EN
CALSCALE:GREGORIAN
METHOD:PUBLISH
X-WR-CALNAME:Volunteer Connect York Region
X-ORIGINAL-URL:https://volunteermarkham.ca
X-WR-CALDESC:Events for Volunteer Connect York Region
BEGIN:VEVENT
DTSTART;TZID=America/Toronto:20230311T113000
DTEND;TZID=America/Toronto:20230311T123000
DTSTAMP:20260425T030115
CREATED:20230310T004347Z
LAST-MODIFIED:20230310T004347Z
UID:12022-1678534200-1678537800@volunteermarkham.ca
SUMMARY:Mastering Job Interviews *In-Person Event
DESCRIPTION:Join Imbert Fung\, founder and director of Future Reach Education\, for an interactive workshop on mastering the behavioural interview. \nAs a former senior leader in the corporate and non-profit world\, Imbert has conducted 400+ interviews recruiting professionals for entry-level to management positions. In addition\, having worked in several different sectors across the globe\, Imbert has himself sat in the interviewee chair on 80+ occasions. With accumulated successes (and failures) on both sides of the table\, Imbert will share his strategies and advice for job interviewing. \nPlease Note: This program will be happening in person\, at our Cornell Library Program Room. \n
URL:https://volunteermarkham.ca/event/mastering-job-interviews-in-person-event/
END:VEVENT
END:VCALENDAR