BEGIN:VCALENDAR
VERSION:2.0
PRODID:-//Volunteer Connect York Region - ECPv4.8.2//NONSGML v1.0//EN
CALSCALE:GREGORIAN
METHOD:PUBLISH
X-WR-CALNAME:Volunteer Connect York Region
X-ORIGINAL-URL:https://volunteermarkham.ca
X-WR-CALDESC:Events for Volunteer Connect York Region
BEGIN:VEVENT
DTSTART;TZID=America/Toronto:20200201T100000
DTEND;TZID=America/Toronto:20200201T170000
DTSTAMP:20260424T134010
CREATED:20200107T160606Z
LAST-MODIFIED:20200107T160606Z
UID:2178-1580551200-1580576400@volunteermarkham.ca
SUMMARY:Markham Village Wedding March
DESCRIPTION:Markham Village Wedding March\n\nSaturday\, February 1\, 2020\n\n\n10 a.m. to 5 p.m.Pick up your passport at Kate’s Garden (227 Main Street Markham) to start your journey \n down Main Street Markham to visit participating Wedding businesses\nto help make your wedding planning easy!\nwww.mainstreetmarkham.com\n\n\n\n\n
URL:https://volunteermarkham.ca/event/markham-village-wedding-march/
LOCATION:main street\, 227\,Main street\, Markham\, Ontario\, Canada
END:VEVENT
END:VCALENDAR