BEGIN:VCALENDAR
VERSION:2.0
PRODID:-//Volunteer Connect York Region - ECPv4.8.2//NONSGML v1.0//EN
CALSCALE:GREGORIAN
METHOD:PUBLISH
X-WR-CALNAME:Volunteer Connect York Region
X-ORIGINAL-URL:https://volunteermarkham.ca
X-WR-CALDESC:Events for Volunteer Connect York Region
BEGIN:VEVENT
DTSTART;TZID=America/Toronto:20200226T100000
DTEND;TZID=America/Toronto:20200226T120000
DTSTAMP:20260423T111304
CREATED:20200121T171014Z
LAST-MODIFIED:20200121T171014Z
UID:2327-1582711200-1582718400@volunteermarkham.ca
SUMMARY:Markham Stamp Club Meeting
DESCRIPTION:For All Ages | Free \nCollecting Stamps? The Markham Stamp Club meets every second and fourth Wednesday at the Markham Village Community Centre. \n\nStamp collecting enthusiasts meet to socialize\, trade and buy stamps\, all year round.\n\nAnyone with interest in\, or questions about stamps is welcome.\n\nDealers are present to fill gaps in your collections.\n
URL:https://volunteermarkham.ca/event/markham-stamp-club-meeting-3/
LOCATION:Markham Village Community Centre\, 6041 Highway 7\, Markham\, Ontario\, Canada
END:VEVENT
END:VCALENDAR