BEGIN:VCALENDAR
VERSION:2.0
PRODID:-//Volunteer Connect York Region - ECPv4.8.2//NONSGML v1.0//EN
CALSCALE:GREGORIAN
METHOD:PUBLISH
X-WR-CALNAME:Volunteer Connect York Region
X-ORIGINAL-URL:https://volunteermarkham.ca
X-WR-CALDESC:Events for Volunteer Connect York Region
BEGIN:VEVENT
DTSTART;VALUE=DATE:20200202
DTEND;VALUE=DATE:20200222
DTSTAMP:20260424T093149
CREATED:20200107T170529Z
LAST-MODIFIED:20200107T170529Z
UID:2236-1580601600-1582329599@volunteermarkham.ca
SUMMARY:Markham Royals Home Games
DESCRIPTION:Markham Royals Home Games\n\nThe Markham Royals are a Junior “A” ice hockey team from Markham\, Ontario\, Canada. They are a part of the Ontario Junior Hockey League.\n\n“The arrival of Junior ‘A’ hockey back to Markham is great news and we’re thrilled to welcome the Red Wings Junior ‘A’ organization to our community\,” said Markham Mayor Frank Scarpitti. “The new Markham Royals Junior ‘A’ Hockey Club will be joining a well-established hockey community known for producing over sixty NHL players including Steve Stamkos\, Steve Thomas\, Brad May\, Mike Zigomanis\, Cody Hodgson\, Jeff Skinner\, Mike Palmateer\, Hockey Hall of Fame Honoured Members Syl Apps and Adam Oates. We’re confident the Markham Royals Junior ‘A’ team will carry on that tradition of hockey excellence.”\n\nWebsite: http://markhamroyals.pointstreaksites.com/view/mroyals \n\nSunday\, February 2\, 2020 at 1:30 p.m. vs. Pickering\nFriday\, February 7\, 2020 at 7:30 p.m. vs. Collingwood\nFriday\, February 14\, 2020 at 7:30 p.m.  vs. Mississauga\nSunday\, February 16\, 2020 at 1:30 p.m. vs. Georgetown\nFriday\, February 21\, 2020 at 7:30 p.m. vs. Stouffville\n\n\n\n\n\n
URL:https://volunteermarkham.ca/event/markham-royals-home-games/
LOCATION:The Centennial Arena\, 8600 McCowan Road\, Markham\, Ontario\, Canada
END:VEVENT
END:VCALENDAR