BEGIN:VCALENDAR
VERSION:2.0
PRODID:-//Volunteer Connect York Region - ECPv4.8.2//NONSGML v1.0//EN
CALSCALE:GREGORIAN
METHOD:PUBLISH
X-WR-CALNAME:Volunteer Connect York Region
X-ORIGINAL-URL:https://volunteermarkham.ca
X-WR-CALDESC:Events for Volunteer Connect York Region
BEGIN:VEVENT
DTSTART;TZID=America/Toronto:20200128T190000
DTEND;TZID=America/Toronto:20200128T213000
DTSTAMP:20260424T172333
CREATED:20191224T165121Z
LAST-MODIFIED:20191224T165128Z
UID:2115-1580238000-1580247000@volunteermarkham.ca
SUMMARY:Markham at the Movies presents Parasite
DESCRIPTION:Markham at the Movies presents Parasite\n\nTuesday\, January 28\, 2020 at 7:00 p.m.\n\n\nIn Korean with English Subtitles\n\nAll unemployed\, Ki-taek’s family takes peculiar interest in the wealthy\nand glamorous Parks for their livelihood until\n they get entangled in an unexpected incident.\nSouth Korea 2019\n\n2019 Winner of the Cannes Palme d’Or\n\nWriter/Director: Joon-ho Bong\n\nStars: Kang-ho Song\, Yeo-jeong Jo\, So-dam Park\n\n\n\n
URL:https://volunteermarkham.ca/event/markham-at-the-movies-presents-parasite/
LOCATION:Flato Markham Theatre\, 171 Town Centre Blvd\, Markham\, Ontario\, Canada
END:VEVENT
END:VCALENDAR