BEGIN:VCALENDAR
VERSION:2.0
PRODID:-//Volunteer Connect York Region - ECPv4.8.2//NONSGML v1.0//EN
CALSCALE:GREGORIAN
METHOD:PUBLISH
X-WR-CALNAME:Volunteer Connect York Region
X-ORIGINAL-URL:https://volunteermarkham.ca
X-WR-CALDESC:Events for Volunteer Connect York Region
BEGIN:VEVENT
DTSTART;TZID=America/Toronto:20200313T100000
DTEND;TZID=America/Toronto:20200313T160000
DTSTAMP:20260422T142037
CREATED:20200225T180452Z
LAST-MODIFIED:20200225T182617Z
UID:2411-1584093600-1584115200@volunteermarkham.ca
SUMMARY:Markham Public Library Winter Book Sale
DESCRIPTION:Sale on Books\, DVD\, Video Games\, Audio Books and much more.\n\nBook Sale Price List\n$1 per piece: paperback books\, children / teen books\, cds & cd roms\n$2 per piece: hardcover books & dvds\n$3 per title: blue-rays\, audio books & tv series\n$5 per title: video games\n\n\n\n\nFriday\, March 13\, 2020\, 10 a.m. – 4 p.m.\nSaturday\, March 14\, 2020\, 10 a.m. – 4 p.m.\nSunday\, March 15\, 2020\, 1 p.m. – 4 p.m.\nAngus Glen Library\, 3990 Major Mackenzie Dr. E.  map\nAaniin Library\, 5665 14th Ave.  map\nThornhill Village Library\, 10 Colborne St.  map\nUnionville Library. 15 Library Lane  map\n\nFriday\, March 20\, 2020\, 10 a.m. – 4 p.m.\nSaturday\, March 21\, 2020\, 10 a.m. – 4 p.m.\nSunday\, March 22\, 2020\, 1 p.m. – 4 p.m.\nMarkham Village Library\, 6031 Highway 7  map\nThornhill Community Centre Library\, 7755 Bayview Ave.  map\n
URL:https://volunteermarkham.ca/event/march-break-locomotion/2020-03-13/
LOCATION:Angus Glen Library\, 3990 Major Mackenzie Dr. E\, Markham\, Ontario\, Canada
END:VEVENT
END:VCALENDAR