BEGIN:VCALENDAR
VERSION:2.0
PRODID:-//Volunteer Connect York Region - ECPv4.8.2//NONSGML v1.0//EN
CALSCALE:GREGORIAN
METHOD:PUBLISH
X-WR-CALNAME:Volunteer Connect York Region
X-ORIGINAL-URL:https://volunteermarkham.ca
X-WR-CALDESC:Events for Volunteer Connect York Region
BEGIN:VEVENT
DTSTART;VALUE=DATE:20220201
DTEND;VALUE=DATE:20220216
DTSTAMP:20260421T053737
CREATED:20220105T192312Z
LAST-MODIFIED:20220105T192312Z
UID:5776-1643673600-1644969599@volunteermarkham.ca
SUMMARY:Lunar New Year:  Year of the Tiger
DESCRIPTION:Lunar New Year (4720) – Year of the Tiger\nChinese/Vietnamese/Korean New Year – The first day after the new (dark) moon is a religious and cultural festival celebrated by Chinese\, Vietnamese and Koreans of Buddhist and other backgrounds as New Year’s Day. Tibetans may celebrate on a different day. \nReligious accommodation for special worship may be required for this observance/holy day. See: http://multifaithcalendar.org/pages/Religious-Accommodation—Observances-by-Faith.php \n
URL:https://volunteermarkham.ca/event/lunar-new-year-year-of-the-tiger/
END:VEVENT
END:VCALENDAR