BEGIN:VCALENDAR
VERSION:2.0
PRODID:-//Volunteer Connect York Region - ECPv4.8.2//NONSGML v1.0//EN
CALSCALE:GREGORIAN
METHOD:PUBLISH
X-WR-CALNAME:Volunteer Connect York Region
X-ORIGINAL-URL:https://volunteermarkham.ca
X-WR-CALDESC:Events for Volunteer Connect York Region
BEGIN:VEVENT
DTSTART;TZID=America/Toronto:20200126T130000
DTEND;TZID=America/Toronto:20200126T140000
DTSTAMP:20260424T204844
CREATED:20200107T152028Z
LAST-MODIFIED:20200107T152028Z
UID:2159-1580043600-1580047200@volunteermarkham.ca
SUMMARY:Lunar New Year Dance Performance
DESCRIPTION:Lunar New Year Dance Performance\n\n\nby Markham Public Library\n\nSunday\, January 26\, 2020\n\n1 p.m. to 2 p.m.\n\nVenue: Milliken Mills Library\n\nCome and celebrate the Lunar New Year with us at the Markham Public Library.\n\nThe Carol C Dance Studio will be performing three dances.\n\nThe show is free and family-friendly.\n\n
URL:https://volunteermarkham.ca/event/lunar-new-year-dance-performance/
LOCATION:miliken mills library\, 7600\,Kennedy road\, Markham\, Ontario\, Canada
END:VEVENT
END:VCALENDAR