BEGIN:VCALENDAR
VERSION:2.0
PRODID:-//Volunteer Connect York Region - ECPv4.8.2//NONSGML v1.0//EN
CALSCALE:GREGORIAN
METHOD:PUBLISH
X-WR-CALNAME:Volunteer Connect York Region
X-ORIGINAL-URL:https://volunteermarkham.ca
X-WR-CALDESC:Events for Volunteer Connect York Region
BEGIN:VEVENT
DTSTART;TZID=America/Toronto:20200314T100000
DTEND;TZID=America/Toronto:20200314T180000
DTSTAMP:20260422T092420
CREATED:20200225T173532Z
LAST-MODIFIED:20200226T145605Z
UID:2401-1584180000-1584208800@volunteermarkham.ca
SUMMARY:Kids Fest 2.0
DESCRIPTION:\n\n\nFamily friendly indoor festival filled with inflatables\, rides\, games\, crafts as well as live entertainment\, delicious food & drinks.\n\nMarch Break begins with a family friendly indoor festival filled with inflatables\, rides\, games\, crafts as well as live entertainment\, delicious food & drinks. Interactive activities & playgrounds are sure to provide hours of entertainment for the whole family. Our Vendor Market is a great place to connect with local vendors and services. Weather permitting outdoor activities are planned as well.\n\n\n\n\nSaturday\, March 14 & Sunday\, March 15\, 2020\n10:00 a.m. – 6:00 p.m.\n\n\nLocation: Markham Fairgrounds\n10801 McCowan Road  map\n\n\n\n\n​Kids Fest 2.0 has something for everyone!\n\n
URL:https://volunteermarkham.ca/event/kids-fest-2-0/2020-03-14/
LOCATION:Markham Fairgrounds\, 10801 McCowan Road\, Markham\, Ontario\, Canada
END:VEVENT
END:VCALENDAR