BEGIN:VCALENDAR
VERSION:2.0
PRODID:-//Volunteer Connect York Region - ECPv4.8.2//NONSGML v1.0//EN
CALSCALE:GREGORIAN
METHOD:PUBLISH
X-WR-CALNAME:Volunteer Connect York Region
X-ORIGINAL-URL:https://volunteermarkham.ca
X-WR-CALDESC:Events for Volunteer Connect York Region
BEGIN:VEVENT
DTSTART;TZID=America/Toronto:20200201T103000
DTEND;TZID=America/Toronto:20200201T120000
DTSTAMP:20260424T114534
CREATED:20191224T162804Z
LAST-MODIFIED:20191224T162810Z
UID:2104-1580553000-1580558400@volunteermarkham.ca
SUMMARY:Islanders Sledge Hockey
DESCRIPTION:\nOntario Sledge Hockey Association (OSHA) ‘Intermediate’ division action @ R.J. Clatworthy Arena.\n\n\nCome see the hottest event at the Paralympics – locally – for free!\n\n It’s the most inclusive sport on ice\, where all ages\, genders\, and levels of ability are on display.\n\nOur program is always looking for players\, volunteers\, and sponsors.\nPlease contact us if you’re interested!\n
URL:https://volunteermarkham.ca/event/islanders-sledge-hockey-2/
LOCATION:R.J. Clatworthy Arena\, 2400 John Street\,\, Markham\, Ontario\, Canada
END:VEVENT
END:VCALENDAR