BEGIN:VCALENDAR
VERSION:2.0
PRODID:-//Volunteer Connect York Region - ECPv4.8.2//NONSGML v1.0//EN
CALSCALE:GREGORIAN
METHOD:PUBLISH
X-WR-CALNAME:Volunteer Connect York Region
X-ORIGINAL-URL:https://volunteermarkham.ca
X-WR-CALDESC:Events for Volunteer Connect York Region
BEGIN:VEVENT
DTSTART;TZID=America/Toronto:20221105T130000
DTEND;TZID=America/Toronto:20221105T150000
DTSTAMP:20260425T102615
CREATED:20221021T152124Z
LAST-MODIFIED:20221021T152124Z
UID:6803-1667653200-1667660400@volunteermarkham.ca
SUMMARY:Ignite Fair
DESCRIPTION:This year\, Ignite Fair will bring together high school students and non-profit organizations across Ontario in a dynamic virtual space. Organizations will be able to connect with youth in their region and across the province who are interested in in-person and virtual volunteering roles. \nIgnite Fair Ontario will assist young people on their journey\, whatever that may be. Whether it is completing their 40 hour volunteer requirement\, dedicating their time and efforts\, or finding their future career route\, Ignite Fair Ontario is the place to start. \nNovember 5th 2022\nTime:1-3pm\nLocation: Virtual Event \nSign up today!\nhttps://pheedloop.com/register/EVECIWJUWVJCK/attendee/ \n
URL:https://volunteermarkham.ca/event/ignite-fair/
ATTACH;FMTTYPE=image/jpeg:https://volunteermarkham.ca/wp-content/uploads/2022/10/Attendees-3.jpg
ORGANIZER;CN="Volunteer%20Toronto":MAILTO:advisors@volunteertoronto.ca
END:VEVENT
END:VCALENDAR