BEGIN:VCALENDAR
VERSION:2.0
PRODID:-//Volunteer Connect York Region - ECPv4.8.2//NONSGML v1.0//EN
CALSCALE:GREGORIAN
METHOD:PUBLISH
X-WR-CALNAME:Volunteer Connect York Region
X-ORIGINAL-URL:https://volunteermarkham.ca
X-WR-CALDESC:Events for Volunteer Connect York Region
BEGIN:VEVENT
DTSTART;TZID=America/Toronto:20260413T090000
DTEND;TZID=America/Toronto:20260417T120000
DTSTAMP:20260422T104916
CREATED:20260220T181500Z
LAST-MODIFIED:20260220T181500Z
UID:12689-1776070800-1776427200@volunteermarkham.ca
SUMMARY:ICFF Youth Film Festival
DESCRIPTION:The ICFF Youth Festival\, now in its 14th edition\, is Canada’s leading educational film program for students from Grades 1 to 12\, inspiring students through cinema\, culture\, and language learning. Students can enjoy curriculum-connected screenings\, educational packages\, interactive Q&As with filmmakers and artists\, and opportunities for cultural discovery. The program aims to inspire the next generation of globally minded thinkers by bringing engaging and impactful cinema directly to youth. \n
URL:https://volunteermarkham.ca/event/icff-youth-film-festival/
LOCATION:Cineplex Cinemas Yorkdale\, 3401 Dufferin St\, Toronto\, ON\, M6A 2T9\, Canada
CATEGORIES:Educational events,Events
ATTACH;FMTTYPE=image/jpeg:https://volunteermarkham.ca/wp-content/uploads/2026/02/ICFF-Youth-Festival-2025_RD_Day-1_0070.jpeg
ORGANIZER;CN="ICFF":MAILTO:info@icff.ca
END:VEVENT
END:VCALENDAR