BEGIN:VCALENDAR
VERSION:2.0
PRODID:-//Volunteer Connect York Region - ECPv4.8.2//NONSGML v1.0//EN
CALSCALE:GREGORIAN
METHOD:PUBLISH
X-WR-CALNAME:Volunteer Connect York Region
X-ORIGINAL-URL:https://volunteermarkham.ca
X-WR-CALDESC:Events for Volunteer Connect York Region
BEGIN:VEVENT
DTSTART;TZID=America/Toronto:20250401T100000
DTEND;TZID=America/Toronto:20250404T123000
DTSTAMP:20260420T182735
CREATED:20250207T175754Z
LAST-MODIFIED:20250207T175754Z
UID:12524-1743501600-1743769800@volunteermarkham.ca
SUMMARY:ICFF Youth Film Festival 2025
DESCRIPTION:CALLING ALL EDUCATORS! The ICFF Youth Film Festival is the perfect field trip for students Aged 8 to 18\, taking place this April 1-4\, 2025 at Cineplex Cinemas Yorkdale. \nWe are thrilled to announce the return of our ICFF Youth program\, dedicated to inspiring and educating students through the art of International cinema. 7 different titles will be available to view\, covering French and Italian Language Studies\, as well as Indigenous and Social Studies. $10 per student\, $14 per adult (1 free adult ticket per 20 students) – HST included. If you’re an educator or know an educator\, be sure to check out this program in more detail on the ICFF Website or by emailing youth@icff.ca. \n
URL:https://volunteermarkham.ca/event/icff-youth-film-festival-2025/
LOCATION:Cineplex Cinemas Yorkdale\, 3401 Dufferin St.\, Toronto\, ON\, M6A 2T9\, Canada
CATEGORIES:Educational events
ATTACH;FMTTYPE=image/jpeg:https://volunteermarkham.ca/wp-content/uploads/2025/02/Youth-Graphic.jpg
ORGANIZER;CN="Italian%20Contemporary%20Film%20Festival":MAILTO:Youth@icff.ca
END:VEVENT
END:VCALENDAR