BEGIN:VCALENDAR
VERSION:2.0
PRODID:-//Volunteer Connect York Region - ECPv4.8.2//NONSGML v1.0//EN
CALSCALE:GREGORIAN
METHOD:PUBLISH
X-WR-CALNAME:Volunteer Connect York Region
X-ORIGINAL-URL:https://volunteermarkham.ca
X-WR-CALDESC:Events for Volunteer Connect York Region
BEGIN:VEVENT
DTSTART;TZID=America/Toronto:20220502T090000
DTEND;TZID=America/Toronto:20220508T233000
DTSTAMP:20260420T221858
CREATED:20220404T205131Z
LAST-MODIFIED:20220404T205210Z
UID:5993-1651482000-1652052600@volunteermarkham.ca
SUMMARY:ICFF Monthly Program – Return to ‘Coccia di Morto’ Beach
DESCRIPTION:The online is offered virtually through our online platform with the Toronto International Film Festival (digital.tiff.net). Three years after the events of the first film: Alessio e Agnese meet in a London pub while Monica\, in Rome\, ends up in jail. She asks Giovanni to help her\, even though he is engaged to the snobbish Camilla. Giovanni succeeds to change Monica’s jail sentence into public service in a Parrish\, guided by a handsome priest. The new meeting between Monica and Giovanna becomes soon a true love story\, in spite of the chaos generated by the events that follow. They organize a lunch on the beach to announce their relationship\, but something unexpected happens. \n
URL:https://volunteermarkham.ca/event/icff-monthly-program-return-to-coccia-di-morto-beach/
LOCATION:Online Platform\, 101 Yorkville Avenue\, Toronto\, ON\, M5R1C1\, Canada
ATTACH;FMTTYPE=image/jpeg:https://volunteermarkham.ca/wp-content/uploads/2022/03/Coccia.jpg
ORGANIZER;CN="ICFF":MAILTO:info@icff.ca
END:VEVENT
END:VCALENDAR