BEGIN:VCALENDAR
VERSION:2.0
PRODID:-//Volunteer Connect York Region - ECPv4.8.2//NONSGML v1.0//EN
CALSCALE:GREGORIAN
METHOD:PUBLISH
X-WR-CALNAME:Volunteer Connect York Region
X-ORIGINAL-URL:https://volunteermarkham.ca
X-WR-CALDESC:Events for Volunteer Connect York Region
BEGIN:VEVENT
DTSTART;TZID=America/Toronto:20260706T090000
DTEND;TZID=America/Toronto:20260710T160000
DTSTAMP:20260420T162813
CREATED:20260220T202916Z
LAST-MODIFIED:20260220T202916Z
UID:12692-1783328400-1783699200@volunteermarkham.ca
SUMMARY:ICFF Film Summer Camp - Lego Stop Motion
DESCRIPTION:LEGO Stop Motion Summer Camp – At the Distillery District\, campers will engage in hands-on exploration of the filmmaking process in both the morning and afternoon\, including pre-production\, production and post production. Working in small teams\, participants will use LEGO mini-figures to design stories\, construct sets\, and animate scenes. They’ll explore the full animation process\, adding sound effects\, special effects\, voice-overs\, music\, and titles to create their unique LEGO stop-motion short film. Campers will build essential digital literacy skills\, which will be proudly presented to their parents\, showcasing all their hard work and creativity in their LEGO stop-motion short films! This camp is in collaboration with Film Camp In a Box. \n
URL:https://volunteermarkham.ca/event/icff-film-summer-camp-lego-stop-motion/
LOCATION:The Distillery Historic District\, 51 Mill St.\, Toronto\, ON\, M5A 3C4\, Canada
CATEGORIES:Events
ATTACH;FMTTYPE=image/jpeg:https://volunteermarkham.ca/wp-content/uploads/2026/02/FilmSummerCamp.jpg
ORGANIZER;CN="ICFF":MAILTO:info@icff.ca
END:VEVENT
END:VCALENDAR