BEGIN:VCALENDAR
VERSION:2.0
PRODID:-//Volunteer Connect York Region - ECPv4.8.2//NONSGML v1.0//EN
CALSCALE:GREGORIAN
METHOD:PUBLISH
X-WR-CALNAME:Volunteer Connect York Region
X-ORIGINAL-URL:https://volunteermarkham.ca
X-WR-CALDESC:Events for Volunteer Connect York Region
BEGIN:VEVENT
DTSTART;TZID=America/Toronto:20200225T143000
DTEND;TZID=America/Toronto:20200225T180000
DTSTAMP:20260423T130300
CREATED:20200107T145837Z
LAST-MODIFIED:20200107T145837Z
UID:2154-1582641000-1582653600@volunteermarkham.ca
SUMMARY:" Glitter"Chinese New Year Extravaganza 2020
DESCRIPTION:” Glitter”\n \nChinese New Year Extravaganza 2020\n\nSaturday\, January 25\, 2020 at 2:30 p.m.\n\nLocation: Pacific Mall\n4300 Steeles Ave. E.  map\n\nSpecial Guest CALVIN CHAN\, Hong Kong TVB Artist\n\n\n​\n\n\n
URL:https://volunteermarkham.ca/event/glitterchinese-new-year-extravaganza-2020/
LOCATION:Pacific Mall\, 4300 Steeles Avenue East\, Markham\, Ontario\, Canada
END:VEVENT
END:VCALENDAR